BEGIN:VCALENDAR
VERSION:2.0
PRODID:-//Fondazione Artea - ECPv4.6.7//NONSGML v1.0//EN
CALSCALE:GREGORIAN
METHOD:PUBLISH
X-WR-CALNAME:Fondazione Artea
X-ORIGINAL-URL:https://fondazioneartea.org
X-WR-CALDESC:Events for Fondazione Artea
BEGIN:VEVENT
DTSTART;VALUE=DATE:20180706
DTEND;VALUE=DATE:20180917
DTSTAMP:20260424T075854
CREATED:20180628T093026Z
LAST-MODIFIED:20180711T083906Z
UID:1774-1530835200-1537142399@fondazioneartea.org
SUMMARY:UN COLLEZIONISTA DI MODA
DESCRIPTION:Abiti e documenti dalla raccolta di Francesco Campidori\nLa collezione di moda di Francesco Campidori nasce da una grande passione che dal 2001 lo spinge a raccogliere abiti e accessori. Adolescente\, si lascia conquistare da un passato che gli sembra familiare e\, sul filo della nostalgia e della scoperta\, si dedica incessantemente a questa ricerca che diventa evasione\, costruzione di un immaginario e un’occasione di lettura per il mondo contemporaneo. \nLa raccolta è per lo più dedicata al Novecento\, con un’attenzione particolare per il periodo tra gli anni Cinquanta e gli anni Novanta. Abiti e accessori di alta moda o prêt-à-porter rappresentano il gusto personale di Campidori\, a volte dialogando a volte stridendo fra loro\, rivelando l’imprevisto e l’azzardo del collezionare la moda ma anche le sue infinite ramificazioni. \nFondamentale in questo processo è la ricerca bibliografica\, svolta in modo accurato per collocare cronologicamente e contestualizzare i capi con il massimo rigore. Ne deriva così la costruzione di una ricca biblioteca nutrita da volumi\, riviste\, cataloghi e altri documenti cartacei e digitali che contribuiscono alla precisione e alla attendibilità della catalogazione.\nDiciassette anni dopo\, questo suo armadio segreto si apre al pubblico e rivela un migliaio di pezzi acquisiti presso privati\, trovati fortunosamente sul mercato antiquario o aggiudicati in aste internazionali. \n \nUn collezionista di moda celebra questa collezione dedicata alla moda e al vestire come esperienza e come occasione per costruire un proprio alfabeto stilistico e soprattutto emotivo\, inseguendo un’immagine femminile capace di rimescolare e infrangere regole\, tendenze e stagionalità. \nLa collezione comprende grandi nomi\, come Yves Saint Laurent o Valentino\, alternati a talenti dell’avanguardia contemporanea come Hussein Chalayan o Bernhard Willhelm. Insieme a questi si trovano molti altri protagonisti di sessant’anni di moda\, nomi conosciuti\, anonimi talenti\, meteore e dimenticati. \n  \nOrari:\nGiovedì\, venerdì e sabato 14.30 – 19.00\nDomenica 10.00 – 19.00 \nInfo: www.filatoiocaraglio.it \n>> INVITO\n>> LOCANDINA\n>> BROCHURE \n  \n
URL:https://fondazioneartea.org/event/un-collezionista-di-moda/
CATEGORIES:Mostre
ATTACH;FMTTYPE=image/jpeg:https://fondazioneartea.org/wp-content/uploads/2018/06/invito.jpg
END:VEVENT
END:VCALENDAR