BEGIN:VCALENDAR
VERSION:2.0
PRODID:-//Fondazione Artea - ECPv4.6.7//NONSGML v1.0//EN
CALSCALE:GREGORIAN
METHOD:PUBLISH
X-WR-CALNAME:Fondazione Artea
X-ORIGINAL-URL:https://fondazioneartea.org
X-WR-CALDESC:Events for Fondazione Artea
BEGIN:VEVENT
DTSTART;VALUE=DATE:20230727
DTEND;VALUE=DATE:20230828
DTSTAMP:20260419T154421
CREATED:20230718T101532Z
LAST-MODIFIED:20230726T091723Z
UID:7282-1690416000-1693180799@fondazioneartea.org
SUMMARY:Temporary Shop 11ª edizione
DESCRIPTION:Il Forte di Vinadio riapre le porte del suo “Temporary Shop”! \nDa giovedì 27 luglio a domenica 27 agosto\, torna l’appuntamento che valorizza creatività\, artigianato ed eccellenze del territorio.  \nAl via l’undicesima edizione del “Temporary Shop”\, lo spazio dedicato all’artigianato artistico\, alla cosmesi e ai prodotti tipici del territorio che ogni estate\, per un mese\, anima il Forte di Vinadio.  Ventisette artigiani creativi e produttori agricoli\, saranno ospiti della fortezza per promuovere i loro prodotti e le loro creazioni all’interno del negozio temporaneo organizzato da Fondazione Artea in collaborazione con il Comune di Vinadio. \nIl “Temporary Shop” è un progetto\, ormai ultra decennale\, nato per far conoscere gli artigiani e i produttori del territorio che con passione e abilità manuale creano eccellenze e prodotti dal carattere unico e autentico: dall’alimentare alla cosmesi\, dall’abbigliamento all’artigianato creativo. Una vasta offerta che comprende produzione ceramica e lignea\, erbe aromatiche\, aglio\, miele\, marmellate\, vino\, oli essenziali\, capi e accessori della tradizione alpina e molto altro. Una particolare attenzione è rivolta ai prodotti tipici\, tra le novità 2023 ci sono le nocciole IGP delle Langhe e derivati\, formaggi e salumi nostrani\, amaretti morbidi di vari gusti\, biscotti e torte della tradizione piemontese\, pasta all’uovo\, tajarin e tagliatelle\, anche aromatizzate. \nIl percorso\, inoltre\, quest’anno sarà più ampio e interesserà un nuovo locale per dare spazio a più espositori\, che da venti salgono a ventisette. \nL’iniziativa è “figlia” di Montagna in movimento\, il percorso multimediale allestito all’interno del forte che dedica una sezione alle prospettive future di vita e di lavoro in montagna. Gli espositori selezionati\, perlopiù giovani\, rappresentano\, infatti\, l’evoluzione degli antichi mestieri delle nostre valli e sono l’esempio di come storia e tradizione possano coesistere con innovazione ed economica sostenibile. \nL’ingresso è gratuito con accesso dal ponte di Porta Francia\, dal lunedì al sabato dalle 14.30 alle 19\, la domenica e la settimana di Ferragosto dalle 10 alle 19. \nPer maggiori informazioni:\n0171959151 / 01711670042\ninfo@fortedivinadio.com \nCLICCA QUI E SCOPRI GLI ESPOSITORI #TS23! \nCOMUNICATO STAMPA \n
URL:https://fondazioneartea.org/event/temporary-shop-11a-edizione/
CATEGORIES:Architettura,Arte,Artigianato,food&beverage,mercatino,Storia
ATTACH;FMTTYPE=image/png:https://fondazioneartea.org/wp-content/uploads/2023/07/IMG_2860.png
END:VEVENT
END:VCALENDAR