BEGIN:VCALENDAR
VERSION:2.0
PRODID:-//Fondazione Artea - ECPv4.6.7//NONSGML v1.0//EN
CALSCALE:GREGORIAN
METHOD:PUBLISH
X-WR-CALNAME:Fondazione Artea
X-ORIGINAL-URL:https://fondazioneartea.org
X-WR-CALDESC:Events for Fondazione Artea
BEGIN:VEVENT
DTSTART;VALUE=DATE:20220728
DTEND;VALUE=DATE:20220829
DTSTAMP:20260419T172710
CREATED:20220719T091122Z
LAST-MODIFIED:20220719T091122Z
UID:6592-1658966400-1661731199@fondazioneartea.org
SUMMARY:Temporary Shop ~ 10ª edizione
DESCRIPTION:Compie dieci anni e torna per un mese il “Temporary Shop” al Forte di Vinadio \nDa giovedì 28 luglio e per tutto agosto\, la Fondazione Artea in collaborazione con il Comune rinnova l’appuntamento che valorizza le eccellenze e i manufatti di 20 espositori cuneesi \nIl progetto\, che si rinnova dal 2013\, dà spazio ai giovani\, agli artigiani e a coloro che hanno riscoperto l’abilità manuale\, facendola rivivere e adattandola alla modernità. Prodotti alimentari locali\, cosmesi e artigianato creativo tornano quindi ad essere protagonisti della montagna e dei suoi visitatori. Un’offerta che comprende oggettistica\, produzione ceramica e lignea\, accessori\, liquori\, miele\, marmellate\, oli essenziali\, prodotti essiccati\, erbe aromatiche\, zafferano\, aglio\, biscotti e molto altro ancora. \nQuesta iniziativa è appendice del percorso multimediale “Montagna in movimento” allestito all’interno del forte\, che fra le tante sezioni ne ha una dedicata alle nuove prospettive per il futuro di vita in montagna proiettato verso un turismo verde\, culturale e sostenibile che valorizzi un nuovo modello di sviluppo delle vallate cuneesi. \nIl negozio temporaneo sarà visitabile ad INGRESSO GRATUITO. \nORARI: dal lunedì al sabato dalle 14.30 alle 19 e la domenica\, i festivi e la settimana di Ferragosto dalle 10 alle 19. \nINFO: 0171 959151 328 2032182 / info@fortedivinadio.com \nCLICCA QUI E SCOPRI GLI ESPOSITORI! \n
URL:https://fondazioneartea.org/event/temporary-shop-10a-edizione/
CATEGORIES:Architettura,Artigianato,food&beverage,Storia
ATTACH;FMTTYPE=image/jpeg:https://fondazioneartea.org/wp-content/uploads/2022/07/Temporary-shop_news-sito_1600x856px_NO-INGR-GRAT.jpg
END:VEVENT
END:VCALENDAR