BEGIN:VCALENDAR
VERSION:2.0
PRODID:-//Fondazione Artea - ECPv4.6.7//NONSGML v1.0//EN
CALSCALE:GREGORIAN
METHOD:PUBLISH
X-WR-CALNAME:Fondazione Artea
X-ORIGINAL-URL:https://fondazioneartea.org
X-WR-CALDESC:Events for Fondazione Artea
BEGIN:VEVENT
DTSTART;VALUE=DATE:20250404
DTEND;VALUE=DATE:20250405
DTSTAMP:20260419T211041
CREATED:20250325T085844Z
LAST-MODIFIED:20250331T091153Z
UID:10114-1743724800-1743811199@fondazioneartea.org
SUMMARY:Talk About Music | FEDERICA ABBATE
DESCRIPTION:VENERDì 4 APRILE / H 18.00\nCuneo\, Spazio Varco – Auditorium Foro Boario\nVia Pascal 5L \nCANZONI PER GLI ALTRI. Il mestiere dell’autrice\ncon FEDERICA ABBATE \nin collaborazione con Genova Per Voi\nmodera Margherita Devalle \nPrimo appuntamento Talk About Music che vede protagonista Federica Abbate\, cantautrice\, compositrice e paroliera italiana classe 1991 con cui approfondiremo le metodologie che danno vita a una canzone\, in un processo creativo guidato e ispiratore. \nSin da piccola si appassiona naturalmente alla musica\, studia pianoforte\, canto e inizia a coltivare in particolare l’attitudine alla scrittura. Dopo la laurea in Sociologia\, nel 2013 partecipa al concorso per giovani autori Genova per voi\, che vince e le procura un contratto alla Universal Music Publishing. In pochissimi anni diventa una tra le autrici più apprezzate e richieste dell’attuale scena musicale. Definita dai media “penna di platino”\, ha raggiunto la notorietà nazionale nel 2015\, scrivendo testo e musica di singoli di successo come L’amore eternit di Fedez e Noemi e Roma-Bangkok di Baby K e da allora non si è più fermata. Firma nel 2016 Nessun grado di separazione di Francesca Michielin\, brano classificatosi secondo al Festival di Sanremo e che ha rappresentato l’Italia all’Eurovision Song Contest. Abbate continua tuttora a scrivere brani per altri e tra gli artisti che cantano sue canzoni ci sono Fiorella Mannoia\, Alessandra Amoroso\, Eros Ramazzotti\, Emis Killa\, Elodie\, Articolo 31\, Mr. Rain\, Michele Bravi e molti altri. Quest’anno è stata co-autrice di sette brani in gara al Festival di Sanremo: Febbre di Clara\, Demoni di Emis Killa (poi escluso in seguito al ritiro del rapper)\, Battito di Fedez\, Eco di Joan Thiele\, Fuorilegge di Rose Villain\, Amarcord di Sarah Toscano e Anima e core di Serena Brancale. \nL’incontro è a ingresso libero con obbligo di prenotazione su Eventbrite. \n\nPRENOTA QUI \n\n\nTHE YOUTH FACTOR  è un progetto di audience engagement\, audience development e empowerment rivolto ai giovani delle scuole superiori di Cuneo\, ideato e realizzato da Fondazione Artea\, con il patrocinio del Comune di Cuneo – Assessorato per la Cultura\, in collaborazione con Confindustria Cuneo e con il contributo di Fondazione CRC. Educational Partner 2025 Genova per Voi \n
URL:https://fondazioneartea.org/event/talk-about-music-federica-abbate/
CATEGORIES:Conferenza,Incontro,Laboratori,Musica
ATTACH;FMTTYPE=image/jpeg:https://fondazioneartea.org/wp-content/uploads/2025/03/TYF-–-ABBATE3_1200x630.jpg
END:VEVENT
END:VCALENDAR