BEGIN:VCALENDAR
VERSION:2.0
PRODID:-//Fondazione Artea - ECPv4.6.7//NONSGML v1.0//EN
CALSCALE:GREGORIAN
METHOD:PUBLISH
X-WR-CALNAME:Fondazione Artea
X-ORIGINAL-URL:https://fondazioneartea.org
X-WR-CALDESC:Events for Fondazione Artea
BEGIN:VEVENT
DTSTART;VALUE=DATE:20260523
DTEND;VALUE=DATE:20260524
DTSTAMP:20260424T021926
CREATED:20260423T065526Z
LAST-MODIFIED:20260423T142841Z
UID:12450-1779494400-1779580799@fondazioneartea.org
SUMMARY:Talk About Music DALLA CANZONE D'AUTORE ALL'AI
DESCRIPTION:THE YOUTH FACTOR / TALK ABOUT MUSIC\n➔ Appuntamenti gratuiti e aperti a tutti per riflettere sul linguaggio della musica: la parola scritta e la parola cantata \n\nSABATO 23 MAGGIO  / H 16.00\nCuneo\, sala San Giovanni\nVia Roma 4 \nDALLA CANZONE D’AUTORE ALL’AI\ncon Gian Piero Alloisio\, Claudio Buja e Stefano Senardi \nUna libera discussione\, sulla base dell’esperienza\, tra un editore musicale\, un produttore discografico e un autore di teatro e di canzoni. Il presente della canzone italiana tra il glorioso passato di mitici cantautori e un futuro dominato dalle nuove tecnologie. \nL’incontro è a ingresso libero con obbligo di prenotazione su Eventbrite.  \n\nPRENOTA QUI \n\n\nTHE YOUTH FACTOR  è un progetto di audience engagement\, audience development e empowerment rivolto ai giovani delle scuole superiori di Cuneo\, ideato e realizzato da Fondazione Artea\, con il patrocinio del Comune di Cuneo – Assessorato per la Cultura\, in collaborazione con The Goodness Factory e Genova per Voi e con il contributo di Fondazione CRC.\nMedia Partner La Stampa \n
URL:https://fondazioneartea.org/event/talk-about-music-dalla-canzone-dautore-allai/
CATEGORIES:Incontro,Musica
ATTACH;FMTTYPE=image/jpeg:https://fondazioneartea.org/wp-content/uploads/2026/04/TYF26_copertineSITOWEB.jpg
END:VEVENT
END:VCALENDAR