BEGIN:VCALENDAR
VERSION:2.0
PRODID:-//Fondazione Artea - ECPv4.6.7//NONSGML v1.0//EN
CALSCALE:GREGORIAN
METHOD:PUBLISH
X-WR-CALNAME:Fondazione Artea
X-ORIGINAL-URL:https://fondazioneartea.org
X-WR-CALDESC:Events for Fondazione Artea
BEGIN:VEVENT
DTSTART;VALUE=DATE:20260523
DTEND;VALUE=DATE:20260524
DTSTAMP:20260424T021552
CREATED:20260423T065606Z
LAST-MODIFIED:20260423T065606Z
UID:12447-1779494400-1779580799@fondazioneartea.org
SUMMARY:Talk About Music con CARMEN CONSOLI
DESCRIPTION:THE YOUTH FACTOR / TALK ABOUT MUSIC\n➔ Appuntamenti gratuiti e aperti a tutti per riflettere sul linguaggio della musica: la parola scritta e la parola cantata \n\nSABATO 23 MAGGIO  / H 17.00\nCuneo\, sala San Giovanni\nVia Roma 4 \nTERRITORI D’ARTE \ncon CARMEN CONSOLI \nin dialogo con STEFANO SENARDI\nmodera Margherita Devalle \nUn dialogo aperto sul rapporto profondo e in continua evoluzione tra la creatività e i luoghi che la accolgono. \nGuidati da Margherita Devalle\, Carmen Consoli e Stefano Senardi esplorano come l’espressione artistica possa interagire con il paesaggio e il patrimonio storico. \nUn incontro per riflettere su come i territori non siano semplici scenari passivi\, ma veri e propri spazi vivi che influenzano l’arte\, la nutrono e ne vengono a loro volta trasformati e valorizzati. \nL’incontro è a ingresso libero con obbligo di prenotazione su Eventbrite.  \n\nPRENOTA QUI \n\n\nTHE YOUTH FACTOR  è un progetto di audience engagement\, audience development e empowerment rivolto ai giovani delle scuole superiori di Cuneo\, ideato e realizzato da Fondazione Artea\, con il patrocinio del Comune di Cuneo – Assessorato per la Cultura\, in collaborazione con The Goodness Factory e Genova per Voi e con il contributo di Fondazione CRC.\nMedia Partner La Stampa \n  \n
URL:https://fondazioneartea.org/event/talk-about-music-con-carmen-consoli/
CATEGORIES:Concerti,Conferenza,Incontro,Musica
ATTACH;FMTTYPE=image/jpeg:https://fondazioneartea.org/wp-content/uploads/2026/04/TYF26_copertineSITOWEB_Tavola-disegno-1-copia-3.jpg
END:VEVENT
END:VCALENDAR