BEGIN:VCALENDAR
VERSION:2.0
PRODID:-//Fondazione Artea - ECPv4.6.7//NONSGML v1.0//EN
CALSCALE:GREGORIAN
METHOD:PUBLISH
X-WR-CALNAME:Fondazione Artea
X-ORIGINAL-URL:https://fondazioneartea.org
X-WR-CALDESC:Events for Fondazione Artea
BEGIN:VEVENT
DTSTART;VALUE=DATE:20211001
DTEND;VALUE=DATE:20211002
DTSTAMP:20260420T035337
CREATED:20210915T080408Z
LAST-MODIFIED:20210921T085839Z
UID:5975-1633046400-1633132799@fondazioneartea.org
SUMMARY:Sulle tracce del Cavaliere Errante / TOMMASO III A CAMELOT
DESCRIPTION:///// SOLD OUT ///// \nNell’ambito della mostra TESORI DEL MARCHESATO DI SALUZZO. Arte\, storia e cultura tra Medioevo e Rinascimento\, la Delegazione FAI Saluzzo\, in collaborazione con la Fondazione Cassa di Risparmio di Saluzzo e Fondazione Artea\, vi invita al secondo appuntamento del ciclo di incontri SULLE TRACCE DEL CAVALIERE ERRANTE. \nVENERDì 1 OTTOBRE – ore 17.30\nMonastero della Stella\, Piazzetta della Trinità 4 – Saluzzo\nTOMMASO III A CAMELOT: IL REGNO DEI PRODI E DELLE EROINE\nIntervento di Marco Piccat\nSegue momento musicale a tema con Cristina Monte (voce) \nUn viaggio alla scoperta del Marchese Tommaso III di Saluzzo\, autore di uno dei più importanti testi cavallereschi medioevali\, “Le Chevalier Errant”\, scritto tra il 1394 e il 1396. L’opera\, una sorta di autobiografia scritta in francese (lingua che da tempo aveva sostituito\, in Piemonte\, il provenzale)\, ebbe una notevole influenza sulla cultura del periodo\, nonostante il testo fosse probabilmente destinato ad un pubblico colto\, o forse ai soli membri della corte\, come confermerebbe il fatto che esistono oggi solo due copie manoscritte dello “Chevalier Errant”. L’arte dell’epoca ricevette\, tramite questo poema\, un notevole influsso che ci viene tramandato negli affreschi del Castello della Manta. Il Marchese Tommaso III fu il primo a ideare la narrazione di un viaggio virtuale tra realtà e finzione\, di tradizione dantesca\, sviluppata con una tecnica narrativa decisamente innovativa nel suo intreccio\, creando un’alternanza discontinua tra prosa e versi. \nContributo minimo 3 euro da devolvere alla Delegazione Fai Saluzzo.\nPrenotazioni:  SOLD OUT \nOBBLIGO DI GREEN PASS \n>> COMUNICATO STAMPA\n>> LOCANDINA \n
URL:https://fondazioneartea.org/event/sulle-tracce-del-cavaliere-errante-tommaso-iii-a-camelot/
CATEGORIES:Arte,Concerti,Conferenza,Incontro,Musica,Storia
ATTACH;FMTTYPE=image/jpeg:https://fondazioneartea.org/wp-content/uploads/2021/09/Testalino_sulletraceCE.jpg
END:VEVENT
END:VCALENDAR