BEGIN:VCALENDAR
VERSION:2.0
PRODID:-//Fondazione Artea - ECPv4.6.7//NONSGML v1.0//EN
CALSCALE:GREGORIAN
METHOD:PUBLISH
X-WR-CALNAME:Fondazione Artea
X-ORIGINAL-URL:https://fondazioneartea.org
X-WR-CALDESC:Events for Fondazione Artea
BEGIN:VEVENT
DTSTART;VALUE=DATE:20260311
DTEND;VALUE=DATE:20260312
DTSTAMP:20260420T103724
CREATED:20260226T090024Z
LAST-MODIFIED:20260320T095125Z
UID:12116-1773187200-1773273599@fondazioneartea.org
SUMMARY:READING FORWARD >> IN DIALOGO CON MARIE ØSTERGAARD
DESCRIPTION:READING FORWARD. DIALOGHI SULLA BIBLIOTECA \n» Mercoledì 11 marzo\, ore 18 \nCuneo\, Spazio Incontri Fondazione CRC\nPalazzo Vitale | via Roma 15 \nMARIE ØSTERGAARD\nDirettrice\, Biblioteche pubbliche di Aarhus (Danimarca) \nIn dialogo con \nCristina Clerico\, assessora alla Cultura\, Comune di Cuneo\nStefania Chiavero\, direttrice\, Biblioteca civica di Cuneo\nDavide De Luca\, direttore\, Fondazione Artea\nKrist Biebauw\, sviluppo strategico Reading Forward 2026 \nTraduzione simultanea a cura di Studio Kosmos  \nIngresso libero\, fino a esaurimento posti » CLICCA QUI E PRENOTA IL TUO POSTO \nSE TI SEI PERSO LA DIRETTA\, RIVEDILA QUI \n\nLe biblioteche devono essere solidi punti di riferimento per la comunità e rappresentano un elemento fondamentale per lo sviluppo urbano. Marie Østergaard illustrerà come le Biblioteche Pubbliche di Aarhus abbiano adottato la co-creazione e il design thinking per innovare non soltanto i servizi e gli spazi offerti\, ma anche il modo in cui questi processi sono integrati nella cultura organizzativa. Con la democrazia al centro della propria missione\, l’istituzione continua a mettere in discussione il ruolo tradizionale della biblioteca\, esplorando nuovi ambiti di azione e sperimentazione. \n \nMarie Østergaard\, direttrice delle Biblioteche Pubbliche di Aarhus\, lavora attivamente per trasformare le biblioteche in spazi democratici\, inclusivi e motori di cittadinanza attiva. Dal 2001 si dedica all’innovazione bibliotecaria\, con un focus su città della conoscenza\, user engagement\, partnership\, design thinking e ridefinizione degli spazi. Esplora nuove tecnologie\, processi partecipativi e modelli di apprendimento organizzativo per rafforzare il ruolo sociale delle biblioteche. Ha guidato la realizzazione di Dokk1\, la biblioteca centrale di Aarhus\, introducendo approcci innovativi per coinvolgere utenti e cittadini già nelle fasi di progettazione e costruzione. \nLa rete bibliotecaria di Aarhus è uno dei sistemi culturali più innovativi della Danimarca\, caratterizzato da una presenza capillare nei quartieri e da una forte attenzione all’inclusione. Il suo fulcro è Dokk1\, la biblioteca centrale situata sul waterfront della città e progettata come hub aperto e multifunzionale. L’edificio\, contraddistinto da un’architettura moderna e sostenibile\, comprende ampie aree di studio\, spazi per famiglie\, sale per eventi e tecnologie digitali avanzate. Dokk1 non è solo una biblioteca\, ma un vero e proprio centro comunitario che promuove partecipazione\, creatività e apprendimento. Nel suo insieme\, la rete integra servizi fisici e digitali\, garantendo accessibilità e forti connessioni tra le diverse sedi della città. \n  \n\n\n\n  \n  \n  \n  \n  \n  \n  \n  \n  \n  \n  \n  \n  \n  \n  \n  \n\nREADING FORWARD. Dialoghi sulla biblioteca \nUn progetto di Comune di Cuneo e Fondazione Artea\nCon il sostegno di Banca di Caraglio\nCon la collaborazione di Confindustria Cuneo\nMedia partner La Stampa  \n
URL:https://fondazioneartea.org/event/reading-forward-marie-ostergaard/
CATEGORIES:Biblioteca,Conferenza,readingforward
ATTACH;FMTTYPE=image/jpeg:https://fondazioneartea.org/wp-content/uploads/2026/02/COEPRTINA-SITOWEB.jpg
END:VEVENT
END:VCALENDAR