BEGIN:VCALENDAR
VERSION:2.0
PRODID:-//Fondazione Artea - ECPv4.6.7//NONSGML v1.0//EN
CALSCALE:GREGORIAN
METHOD:PUBLISH
X-WR-CALNAME:Fondazione Artea
X-ORIGINAL-URL:https://fondazioneartea.org
X-WR-CALDESC:Events for Fondazione Artea
BEGIN:VEVENT
DTSTART;VALUE=DATE:20260204
DTEND;VALUE=DATE:20260205
DTSTAMP:20260424T075545
CREATED:20260320T155714Z
LAST-MODIFIED:20260320T155724Z
UID:12323-1770163200-1770249599@fondazioneartea.org
SUMMARY:READING FORWARD >> IN DIALOGUE WITH ILONA KISH
DESCRIPTION:READING FORWARD. DIALOGHI SULLA BIBLIOTECA \n» Wednesday\, February 4\, 6:00 PM\nCuneo\, Spazio Incontri Fondazione CRC\nPalazzo Vitale | via Roma 15 \nILONA KISH\nDirector Public Libraries 2030 – European Platform \nIn conversation with \nCristina Clerico\, Councillor for Culture\, Municipality of Cuneo\nStefania Chiavero\, Director\, Cuneo Civic Library\nDavide De Luca\, Director\, Fondazione Artea\nKrist Biebauw\, Strategic Development\, Reading Forward 2026 \nLive streaming on Fondazione Artea’s YouTube channel \n\nContemporary libraries today are an essential civic infrastructure for democracy and digitalization. In an age of information overload\, uncertainty\, and rapid technological change\, they provide safe public spaces where citizens can access diverse perspectives and engage in critical discussion. \nIncreasingly\, libraries operate as democratic arenas: places of participation\, dialogue\, and co-creation\, where citizens\, institutions\, and civil society organizations collaborate to address local and regional challenges. By fostering civic engagement and offering space for activism\, they strengthen democratic trust and active citizenship\, contributing concretely to more cohesive\, resilient\, and democratically robust cities and regions. \n \nIn view of the opening of the new Cuneo Civic Library planned for next autumn\, the 2026 program of READING FORWARD will naturally evolve with the support and involvement of Krist Biebauw\, former director of the “De Krook” library in Ghent (Belgium) and one of the key figures of the previous edition. \nThe first international guest of 2026 is Ilona Kish\, Director of Public Libraries 2030\, who actively advocates for strengthening the European library sector through EU-level advocacy and network building. Former Secretary General of Culture Action Europe\, Ilona brings extensive experience in European advocacy and campaigns\, along with deep operational and political knowledge of how European Union institutions function. \nPublic Libraries 2030 is a European platform led by a team of professionals and consultants committed to strengthening the role of libraries across Europe. With diverse expertise in policy\, innovation\, and engagement\, they work together to support libraries in empowering citizens and promoting inclusive societies. Drawing on experience from different sectors\, the team collaborates on project development\, strategic partnerships\, and advancing the future of public libraries. Their expertise and passion help shape initiatives that connect\, inspire\, and create lasting impact. \n\nREADING FORWARD. Dialoghi sulla Biblioteca is a journey accompanying the creation of Cuneo’s new library hub\, which in 2026 will find its home in the historic Palazzo Santa Croce. Through a series of talks\, it aims to explore and examine the role and identity of libraries\, future challenges\, and management\, enhancement and development processes that can foster cultural growth and social well-being. It is an important opportunity to find inspiration and good practices to draw on\, and to rethink how a civic library can be conceived so that it is ever more a space at the service of the city\, a welcoming place for books but above all for people\, and a cultural and community centre in all its many forms.\nREADING FORWARD is a project by the Municipality of Cuneo and Fondazione Artea\, with the support of Banca di Caraglio\, in collaboration with Confindustria Cuneo. Media partner La Stampa \n  \n  \n  \n  \n
URL:https://fondazioneartea.org/event/reading-forward-in-dialogue-with-ilona-kish/
CATEGORIES:Biblioteca,Conferenza,readingforward
ATTACH;FMTTYPE=image/jpeg:https://fondazioneartea.org/wp-content/uploads/2026/01/READINGFORWARD_COPERTINEWEB_Tavola-disegno-1.jpg
END:VEVENT
END:VCALENDAR