BEGIN:VCALENDAR
VERSION:2.0
PRODID:-//Fondazione Artea - ECPv4.6.7//NONSGML v1.0//EN
CALSCALE:GREGORIAN
METHOD:PUBLISH
X-WR-CALNAME:Fondazione Artea
X-ORIGINAL-URL:https://fondazioneartea.org
X-WR-CALDESC:Events for Fondazione Artea
BEGIN:VEVENT
DTSTART;VALUE=DATE:20241125
DTEND;VALUE=DATE:20241126
DTSTAMP:20260419T115055
CREATED:20260216T170717Z
LAST-MODIFIED:20260218T112058Z
UID:11893-1732492800-1732579199@fondazioneartea.org
SUMMARY:READING FORWARD. Cuneo in dialogue with Gabriel García Márquez Library (Barcelona)
DESCRIPTION:  \nCuneo hosts Barcelona’s “Gabriel García Márquez” Library \nREADING FORWARD. DIALOGHI SULLA BIBLIOTECA\, the first meeting to reflect on Cuneo’s future Civic Library and explore the themes of the city’s bid for Italian Book Capital 2025\, at the Salone d’Onore of Cuneo Town Hall.\nGuest of honour: Neus Castellano Tudela\, director of Barcelona’s “Gabriel García Márquez” Library\, awarded the “World’s Best Public Library 2023” prize. \nThe event\, conceived and organised by the Municipality of Cuneo and Fondazione Artea\, with the support of Banca di Caraglio\, anticipates and prepares a series of subsequent conferences to understand the role and new identities of libraries in relation to the present and future challenges\, in management\, enhancement and development processes – including territorial ones – applicable to these spaces. \nDuring the day\, the contents of Cuneo’s bid dossier for Italian Book Capital 2025 will be highlighted\, with the aim of building a vision for the new civic library at the Santa Croce hub\, a cultural space for the future of the provincial capital and its territory. \nThe Monday 25 November event marks the first step towards creating a programme of meetings involving national and international guests\, including directors of the world’s most important and significant public libraries\, to share their experiences with experts\, institutions and anyone interested in the topic. \n\nPROGRAMME \n>> h. 15.30\nThe Santa Croce Hub\nCuneo is an open book | The bid project for Italian Book Capital 2025 \nwith\nPatrizia Manassero\, Mayor of Cuneo\nCristina Clerico\, Councillor for Culture\, Municipality of Cuneo\nDavide De Luca\, Director Fondazione Artea\nFlavio Bruna\, Architect – Isolarchitetti Studio\nOliviero Ponte di Pino\, Curator and scientific coordinator of the bid \n>> h. 16.30\nNEUS CASTELLANO TUDELA \nDirector of Barcelona’s Gabriel García Márquez Library \n \nIn conversation with\nMaurizio Vivarelli\, Full Professor of Bibliography and Library Science\, University of Turin\nStefania Chiavero\, Director of Cuneo Civic Library \n>> h. 17.30\nQ&A \nWatch the conference video \n\nREADING FORWARD. Dialoghi sulla Biblioteca is a project by the Municipality of Cuneo and Fondazione Artea\, with the support of Banca di Caraglio\, in collaboration with Confindustria Cuneo. Media partner La Stampa \n  \n
URL:https://fondazioneartea.org/event/reading-forward-dialoghi-sulla-biblioteca-eng/
CATEGORIES:Conferenza,Incontro,Letteratura,readingforward
ATTACH;FMTTYPE=image/jpeg:https://fondazioneartea.org/wp-content/uploads/2025/02/copertina-pagina-reading-forward.jpg
END:VEVENT
END:VCALENDAR