BEGIN:VCALENDAR
VERSION:2.0
PRODID:-//Fondazione Artea - ECPv4.6.7//NONSGML v1.0//EN
CALSCALE:GREGORIAN
METHOD:PUBLISH
X-WR-CALNAME:Fondazione Artea
X-ORIGINAL-URL:https://fondazioneartea.org
X-WR-CALDESC:Events for Fondazione Artea
BEGIN:VEVENT
DTSTART;VALUE=DATE:20250226
DTEND;VALUE=DATE:20250227
DTSTAMP:20260419T193044
CREATED:20250213T114932Z
LAST-MODIFIED:20250312T091418Z
UID:9845-1740528000-1740614399@fondazioneartea.org
SUMMARY:READING FORWARD. Cuneo in dialogo con la Biblioteca De Krook di Gent
DESCRIPTION:» Clicca qui per la diretta streaming \n\nREADING FORWARD. DIALOGHI SULLA BIBLIOTECA \n» Mercoledì 26 febbraio\, ore 18\nSala Michele Ferrero – Casa Betania | via Bersezio 9\, Cuneo \nKRIST BIEBAUW\nDirettore della Biblioteca “De Krook” di Gent (Belgio) \nIn dialogo con \nDavide De Luca\, direttore della Fondazione Artea\nCristina Clerico\, assessora alla Cultura del Comune di Cuneo\nStefania Chiavero\, direttrice della Biblioteca civica di Cuneo\nOliviero Ponte di Pino\, autore\, docente e progettista culturale \nTraduzione simultanea a cura di Studio Kosmos  \nIngresso libero\, fino a esaurimento posti » PRENOTA QUI \nÈ possibile seguire l’evento anche in diretta streaming sul canale YouTube di Fondazione Artea. \n  \n \nAd aprire l’agenda 2025 è Krist Biebauw\, direttore\, dal 2011\, dell’avveniristica Biblioteca “De Krook” di Gent e protagonista della sostanziale trasformazione che ha interessato il polo bibliotecario\, oggi centro moderno e multifunzionale di cultura\, conoscenza e innovazione che riunisce le 15 biblioteche della città e mira a connettere le persone attraverso la lettura\, l’apprendimento e la tecnologia. \nLa struttura che ospita la biblioteca\, realizzata dallo studio architettonico Gand Coussée & Goris Architecten con RCR Aranda Pigem Vilalta Arquitectes\, è il frutto di un importante progetto di rinnovamento urbano del quartiere post-industriale Macharius-Hernis\, vicino al centro cittadino\, che ha trasformato l’area dove un tempo veniva scaricato il carbone proveniente dal sud del Belgio\, in un luogo di incontro speciale per residenti\, studenti\, o semplici visitatori. \nL’imponente edificio polifunzionale si trova lungo un’ansa (“krook”) del fiume Schelda\, da cui prende il nome\, e oltre ad accogliere la nuova sede della biblioteca civica di Gent\, ospita l’Imec (il Centro di Ricerca fiammingo per la nanoelettronica e le tecnologie digitali)\, alcuni laboratori e uffici dell’Università di Gent\, Urgent.fm (che comprende una stazione radio\, uno studio di registrazione e una piattaforma per giovani produttori)\, spazi dedicati alla ricerca e alla digitalizzazione (come la sede di Comon\, collettivo di scienziati\, tecnologi e creativi\, Digipunt centro di consulenza gratuita sull’uso del PC\, tablet e smartphone e Culturcoonect)\, una sala polivalente\, un’aula studio e un caffè-ristorante. \n  \nCOMUNICATO STAMPA \n\n \n \n\n\n \n \n\n\n \n \n\nLe prossime conferenze in programma per il 2025 coinvolgeranno altri ospiti internazionali: esperti del settore\, direttori di alcune delle più importanti biblioteche d’Europa o responsabili di centri culturali d’eccellenza. \nGli appuntamenti si terranno sempre in Sala Michele Ferrero di Casa Betania\, sede di Confindustria Cuneo\, secondo il seguente calendario: \nMercoledì 16 aprile – ore 18\nReinert Mithassel – responsabile della sezione “Deichman Biblo Tøyen” di Oslo (Norvegia) \nMercoledì 11 giugno – ore 18\nRoel Van den Bril – coordinatore culturale Biblioteca “Het Predikheren” di Mechelen (Belgio) \nMercoledì 17 settembre – ore 18\nVincent Eches – direttore della Cité internationale de la bande dessinée d’Angoulême (Francia) \n\nIl progetto READING FORWARD. Dialoghi sulla biblioteca è un percorso di avvicinamento alla nascita del nuovo polo bibliotecario di Cuneo\, che nel 2026 troverà casa nello storico Palazzo Santa Croce. \nAttraverso un ciclo di conferenze\, si propone di indagare e approfondire il ruolo e l’identità delle biblioteche\, le sfide del futuro\, i processi di gestione\, valorizzazione e sviluppo applicabili che possano favorire crescita culturale e benessere sociale. Un’importante occasione per trovare ispirazione e buone pratiche a cui fare riferimento\, e ragionare su come innovare il modo di concepire una biblioteca civica perché sia sempre più uno spazio a servizio della città\, un luogo accogliente\, per i libri\, ma soprattutto per le persone\, e centro culturale e di aggregazione\, nelle sue molteplici espressioni. \nUn progetto di Comune di Cuneo e Fondazione Artea\nCon il sostegno di Banca di Caraglio\nCon la collaborazione di Confindustria Cuneo\nMedia Partner La Stampa \n
URL:https://fondazioneartea.org/event/reading-forward-cuneo-in-dialogo-con-la-biblioteca-de-krook-di-gent/
CATEGORIES:Conferenza,Incontro
ATTACH;FMTTYPE=image/jpeg:https://fondazioneartea.org/wp-content/uploads/2025/02/READING-FORWARD-copertina-1200x630.jpg
END:VEVENT
END:VCALENDAR