BEGIN:VCALENDAR
VERSION:2.0
PRODID:-//Fondazione Artea - ECPv4.6.7//NONSGML v1.0//EN
CALSCALE:GREGORIAN
METHOD:PUBLISH
X-WR-CALNAME:Fondazione Artea
X-ORIGINAL-URL:https://fondazioneartea.org
X-WR-CALDESC:Events for Fondazione Artea
BEGIN:VEVENT
DTSTART;VALUE=DATE:20251129
DTEND;VALUE=DATE:20251130
DTSTAMP:20260424T090630
CREATED:20251107T093048Z
LAST-MODIFIED:20260116T100519Z
UID:11213-1764374400-1764460799@fondazioneartea.org
SUMMARY:Nuovi Sguardi. La rappresentazione del femminile oggi
DESCRIPTION:SABATO 29 NOVEMBRE – ORE 18\nFilatoio di Caraglio \nNuovi Sguardi. La rappresentazione del femminile oggi\ncon \nChiara Bardelli Nonino\, Photo Editor Harper’s Bazaar\nMonica Poggi\, storica della fotografia \nL’incontro racconterà il modo in cui oggi\, in rottura rispetto al passato\, l’editoria di moda cerchi di guardare a corpi considerati non conformi. Particolare attenzione sarà rivolta alle riviste e ai fotografi che stanno contribuendo a ridefinire i canoni della rappresentazione\, in un’ottica di sempre maggiore inclusività e riconoscimento delle diversità. \nINGRESSO LIBERO – PRENOTAZIONE OBBLIGATORIA SU EVENTBRITE \n\nChiara Bardelli Nonino è una curatrice indipendente e Features Director di Harper’s Bazaar Italia. Nella sua ricerca si concentra principalmente sull’arte visiva contemporanea\, in particolare nella sua intersezione con questioni identitarie e cultura post-internet. È stata curatrice del Photo Vogue Festival e collabora con varie testate. Dopo la laurea magistrale in Estetica è stata per oltre un decennio Senior Visual Editor di Vogue Italia\, L’Uomo Vogue\, e della sezione fotografica di Vogue.it. \n  \n\n \nMonica Poggi è storica della fotografia e curatrice. Collabora con Fondazione Artea (Cuneo) come Consulente curatoriale per i progetti fotografici e\, dal 2019 al 2025 è stata Curatrice e responsabile mostre presso Camera (Torino). All’attività curatoriale affianca quella di scrittura\, collaborando all’interno di progetti editoriali e riviste di settore. \n© Photo Antonio Jordán \n\n  \n
URL:https://fondazioneartea.org/event/nuovi-sguardi-la-rappresentazione-del-femminile-oggi/
CATEGORIES:Arte,Conferenza,Fotografia,Incontro,Mostre
ATTACH;FMTTYPE=image/png:https://fondazioneartea.org/wp-content/uploads/2025/11/PP-SITO-WEB-1-1.png
END:VEVENT
END:VCALENDAR