BEGIN:VCALENDAR
VERSION:2.0
PRODID:-//Fondazione Artea - ECPv4.6.7//NONSGML v1.0//EN
CALSCALE:GREGORIAN
METHOD:PUBLISH
X-WR-CALNAME:Fondazione Artea
X-ORIGINAL-URL:https://fondazioneartea.org
X-WR-CALDESC:Events for Fondazione Artea
BEGIN:VEVENT
DTSTART;VALUE=DATE:20180715
DTEND;VALUE=DATE:20180722
DTSTAMP:20260424T080651
CREATED:20180711T082448Z
LAST-MODIFIED:20180713T100652Z
UID:1813-1531612800-1532217599@fondazioneartea.org
SUMMARY:MARCHESATO OPERA FESTIVAL
DESCRIPTION:MARCHESATO OPERA FESTIVAL – VII edizione\nFrau Musika – Omaggio a Bach\n15 – 21 luglio 2018 \nDirezione Artistica – Ivano Scavino \n  \nDal 15 al 21 luglio 2018 ritorna il Marchesato Opera Festival (MOF)\, una rassegna concertistica volta ad alimentare la vocazione musicale della Città di Saluzzo\, valorizzandone la storia e il patrimonio artistico.\nIl MOF costituisce uno dei tasselli fondamentali della programmazione culturale e musicale della Città e del territorio delle Terre del Monviso: per un’intera settimana\, la musica antica trova collocazione naturale nei prestigiosi palazzi dell’antica capitale del Marchesato e si muove oltre i confini cittadini verso luoghi di altrettanto fascino: dal Castello di Lagnasco alla Cappella marchionale di Revello\, sino alla Cattedrale di Embrun.\nLa settima edizione del Festival sarà un omaggio all’opera di Johann Sebastian Bach\, universalmente considerato come uno dei più grandi musicisti di tutti i tempi. Doveroso omaggio\, in quanto a Saluzzo esiste una tra le collezioni più importanti in Italia dedicate a Bach\, conservata presso l’Istituto per i Beni Musicali in Piemonte diretto dal Prof. Basso. \nLa sfida del MOF 2018 è quella di creare contaminazioni con forme artistiche moderne. Due novità su tutte caratterizzeranno questa edizione\, portando il festival a confrontarsi con luoghi e arti performative differenti. Inoltre\, tutti gli eventi del Festival saranno sviluppati in collaborazione tra professionisti e studenti senior provenienti da diversi paesi\, offrendo così un’opportunità unica di confronto e progressione musicale. Un Festival generatore di creatività e formazione\, non solo un’occasione di diffusione della cultura musicale. \nCome da consuetudine consolidata\, il fulcro del programma artistico sarà rappresentato da un’opera lirica. Poiché Bach non ne compose alcuna\, è stata scelta l’opera che più si avvicina al repertorio lirico tradizionale: la cosiddetta “Cantata del caffè”\, cantata profana scritta tra il 1732 e il 1734 per essere eseguita al caffè Zimmermann\, il locale che in quegli anni riuniva musicisti e studenti universitari a Lipsia. Nella Notte del MOF\, la notte in cui il Festival storicamente invade la Città\, si allestirà uno spettacolo in cui il genio musicale di Bach nella “Cantata del caffè” incontrerà il talento teatrale di Carlo Goldoni ne “La bottega del caffé”\, dando vita a una produzione inedita e originale che vedrà impegnato alla regia Raul Iaiza: argentino di origine\, nasce come musicista classico per poi dedicarsi alla regia e alla pedagogia teatrale (dal 2007 ad oggi dirige Regula contra Regulam\, progetto Educational del Grotowski Institute – Wroclaw\, Polonia)”. \nPer la nuova edizione segnaliamo il ritorno di alcuni grandi artisti che nel corso delle passate edizioni hanno saputo incantare letteralmente il pubblico: \nClaire Lefilliatre conferma anche quest’anno la sua presenza così come Pablo Valetti\, artista formatosi presso la Schola Cantorum di Basilea\, che appare regolarmente come solista o primo violino con importanti ensembles barocchi e orchestre di scene internazionali – Les Arts Florissants Le Concert des Nations\, Concerto Köln\, Hesperion XXI\, etc. Altri artisti si esibiranno invece per la prima volta sulla scena del MOF; tra questi ricordiamo Francesco Corti\, che dirigerà il concerto serale del 19 luglio. Come solista è presente in alcuni dei maggiori teatri del mondo ed è regolarmente invitato dal principale festival dedicato a Bach\, il Bachfest di Lipsia. \nInfine il connubio musica antica – performing arts di cui sarà protagonista “Circus Contrapunctum”\, produzione nella quale l’estrema complessità della musica di Bach ne “L’arte della fuga” si affianca alle acrobazie degli artisti di Cirko Vertigo: sintesi di movimento e musica per offrire meraviglia e stupore. \nTutti gli appuntamenti del Festival saranno arricchiti da possibilità di visite a tema nei musei di Saluzzo o nelle altre sedi storiche individuate.\nLa “rete” di relazioni sul territorio si arricchisce quest’anno grazie alla collaborazione con l’Associazione Amici della musica “Magda Olivero”\, ente che sarà tra i sostenitori dell’evento. \nIl Festival è prodotto dal Comune di Saluzzo\, in collaborazione con la Fondazione ARTEA e la Fondazione APM. \n  \nIL PROGRAMMA \nDomenica 15 luglio\nEmbrun (F)\, Cattedrale -“Notre-Dame-du-Rèal” – ore 20.30\nAvant-première du MOF\nJean Sébastien Bach et environs\nWalter Gatti (organo) \nLunedì 16 luglio\nSaluzzo\, Libreria Mondadori – ore 18.00\nAperitivo con Bach\na cura di Corrado Rollin \nRevello\, Cappella Marchionale – ore 21.00\nBist du bei mir\nClaire Lefilliâtre (soprano)\nElena Bayeul Gertsman (clavicembalo) \nMartedì 17 luglio\nSaluzzo\, Centro di Ricerca e Documentazione dell’Istituto per i Beni Musicali in Piemonte – ore 17.00\nUna vita per Bach\nAlberto Basso dialoga con Marco Rossi \nSaluzzo\, Giardini dell’ex Monastero dell’Annunziata – ore 21.00\nCircus Contrapunctum/L’arte della fuga\nUna creazione di Sabina Colonna Preti e Caterina Mochi\nEnsemble La Chimera e Cirko Vertigo \nMercoledì 18 luglio\nSaluzzo\, Antico Palazzo Comunale – ore 18.00\nConcerto-aperitivo\nLa famiglia Bach e la viola da gamba\nLorenzo Citraro (viola da gamba)\nMarco Crosetto (clavicembalo) \nLagnasco\, Castelli Tapparelli – ore 21.00\nOpere di J.S. Bach per clavicembalo\nFrancesco Corti (clavicembalo) \nGiovedì 19 luglio\nSaluzzo\, Villa Belvedere – ore 18.00\nConcerto-aperitivo\nOpere di J.S. Bach per liuto\nJuan Josè Francione (arciliuto)\nLorenzo Abate (liuto barocco) \nSaluzzo\, Chiesa di San Giovanni – ore 21.00\nJ. S. Bach – Ouverture in Do maggiore BWV 1066 e Messa in Sol minore BWV 235\nOrchestra e Solisti dell’Accademia La Chimera\nFrancesco Corti (Direttore)\nPablo Valetti (Maestro concertatore) \nVenerdì 20 luglio\nSaluzzo\, Casa Cavassa – ore 18.00\nConcerto-aperitivo\nOpere di J.S. Bach per clavicembalo e traversiere\nMarco Crosetto (clavicembalo)\nGiulio De Felice (traversiere) \nSaluzzo\, Antico Refettorio di San Giovanni – ore 21.00\nJ.S. Bach – I Concerti\nOrchestra Accademia La Chimera\nFrancesco Corti e Dmytro Kokoshynskyy (clavicembali)\nAnna Maddalena Ghielmi e Margherita Pupulin (violini solisti)\nPablo Valetti (violino solista e Maestro concertatore) \nSabato 21 luglio\nSaluzzo\, Antico Palazzo Comunale – Tasté Move – ore 17.00\nAperitivo di caffè a cura di Caffè Hausbrandt (degustazione con letture e presentazione dei prodotti della ditta Hausbrandt) \nSaluzzo\, La Castiglia – ore 21.00\nLa cantata del caffè BWV 211 di J.S. Bach incontra La bottega del caffè di C. Goldoni\nOrchestra Accademia La Chimera\nCompagnia B.A.M. teatro\nregia di Raul Iaiza\ncon la partecipazione di Sara Pan\, Valentina Papis\, Margherita Pupulin e Francesco Zanetti\nPablo Valetti (Maestro concertatore) \nSaluzzo\, centro storico – dalle ore 21.00 alle ore 24.00\nNOTTE DEL MOF\nApertura straordinaria e gratuita di tutti i siti museali cittadini con possibilità di visite guidate e\, nelle vie del centro storico\, itinerario teatrale/musicale a cura di Mario Bois (Dipartimento Teatro della Scuola APM). \n  \nSpettacoli ad ingresso gratuito\nI concerti saranno preceduti da una breve introduzione a cura del prof. Diego Ponzo (Centro di ricerca e documentazione dell’Istituto per i Beni Musicali in Piemonte). \nSegreteria organizzativa: Comune di Saluzzo – Assessorato alla Cultura e Fondazione Scuola di Alto Perfezionamento Musicale\nCoordinamento didattico-artistico: Sabina Colonna Preti\nDirezione Artistica: Ivano Scavino \nPer informazioni e prenotazioni:\nUfficio Turistico IAT Saluzzo – Piazza Risorgimento\, 1\niat@comune.saluzzo.cn.it – tel. 0175 46710 \nFacebook: MOF – Marchesato Opera Festiva \nFondazione Scuola di Alto Perfezionamento Musicale\nVia dell’Annunziata 1/b – Saluzzo\ntel. 0175 47031\nwww.fondazionescuolapm.it \n
URL:https://fondazioneartea.org/event/marchesato-opera-festival-vii-edizione/
ATTACH;FMTTYPE=image/jpeg:https://fondazioneartea.org/wp-content/uploads/2018/07/Cover-MOF-FB-Copia.jpg
END:VEVENT
END:VCALENDAR