BEGIN:VCALENDAR
VERSION:2.0
PRODID:-//Fondazione Artea - ECPv4.6.7//NONSGML v1.0//EN
CALSCALE:GREGORIAN
METHOD:PUBLISH
X-WR-CALNAME:Fondazione Artea
X-ORIGINAL-URL:https://fondazioneartea.org
X-WR-CALDESC:Events for Fondazione Artea
BEGIN:VEVENT
DTSTART;VALUE=DATE:20191005
DTEND;VALUE=DATE:20200217
DTSTAMP:20260424T165840
CREATED:20191001T083835Z
LAST-MODIFIED:20191126T102034Z
UID:4203-1570233600-1581897599@fondazioneartea.org
SUMMARY:L'ALTRA TELA DI LEONARDO
DESCRIPTION:Nel cinquecentenario della morte di Leonardo da Vinci\, la Fondazione Filatoio Rosso ha colto l’opportunità di produrre una mostra che evidenzi l’ingegno dell’artista nella messa a punto e nell’invenzione di dispositivi e macchine per una delle attività preponderanti del suo tempo\, l’arte tessile. \nI due torcitoi circolari\, fedelmente ricostruiti nel Filatoio di Caraglio in scala reale\, perfettamente funzionanti e unici esistenti in tutto il mondo\, diventano lo spunto per la costruzione di un progetto espositivo originale e irripetibile\, che consente la rappresentazione dal vero dei tantissimi disegni del Maestro: disegni che  riprendono i movimenti delle stesse macchine con variazioni incredibili  che furono adottate subito dagli addetti al lavoro del tempo con un impatto notevole sulla produzione della seta per oltre duecento anni. \nCon la curatela del Prof. Flavio Crippa e dell’arch. Aurelio Toselli\, che hanno studiato\, progettato e realizzato la ricostruzione di tutte le macchine presenti nel Museo del Setificio Piemontese\, la mostra vuole essere un efficace strumento di comprensione e di divulgazione delle invenzioni di Leonardo Da Vinci. \nIl percorso espositivo si sviluppa in tre sezioni attraverso ricostruzioni 3d\, apparati multimediali\, gigantografie\, videoproiezioni\, installazioni immersive e modelli lignei delle macchine. I linguaggi utilizzati sono diversi a seconda delle sezioni: più tradizionale negli spazi museali per tutelare e valorizzare il patrimonio culturale esistente e più innovativo e tecnologico negli spazi espositivi per dar vita nel suo complesso ad un percorso di visita esperienziale ed emozionante. \nMostra promossa da: Fondazione Filatoio Rosso; Comune di Caraglio.\nIn co-produzione con: Fondazione Artea.\nIn collaborazione con: Museo Nazionale della Scienza e della Tecnologia Leonardo da Vinci; Museo del Tessuto di Prato; Museo Leonardiano di Vinci; Museo Abegg di Garlate; Comune di Garlate; Kalatà – progetti per fare cultura.\nCon il sostegno di: Compagnia di San Paolo.\nCon il contributo di: Fondazione CRT; Fondazione CRC; Consorzio BIM del Maira.\nCon la sponsorizzazione di: Banca di Caraglio; Merlo S.p.A; Idrocentro S.p.A.; Toselli Costruzioni. \nLa mostra è inserita nelle iniziative realizzate in occasione delle celebrazioni di Leonardo che verranno comunicate sul sito www.leonardoatorino.it a cura di Turismo Torino con la collaborazione dell’Associazione Abbonamento Musei. \n  \nINVITO\nCOMUNICATO STAMPA \n\nL’altra tela di Leonardo. Le geniali invenzioni nelle macchine tessili\nIl Filatoio\, Caraglio\n5 ottobre 2019 – 16 febbraio 2020 \nORARI\nDa giovedì a sabato 14.30-19.00; domenica e festivi 10.00-19.00. \nBIGLIETTI\nintero euro 9 – ridotto euro 6 \nINFO\nFondazione Filatoio Rosso\nVia Giacomo Matteotti 40\, 12023 Caraglio CN\n0171 618300 ~ info@fondazionefilatoio.it \n
URL:https://fondazioneartea.org/event/laltra-tela-di-leonardo/
CATEGORIES:Mostre
ATTACH;FMTTYPE=image/jpeg:https://fondazioneartea.org/wp-content/uploads/2019/10/header_FB.jpg
END:VEVENT
END:VCALENDAR