BEGIN:VCALENDAR
VERSION:2.0
PRODID:-//Fondazione Artea - ECPv4.6.7//NONSGML v1.0//EN
CALSCALE:GREGORIAN
METHOD:PUBLISH
X-WR-CALNAME:Fondazione Artea
X-ORIGINAL-URL:https://fondazioneartea.org
X-WR-CALDESC:Events for Fondazione Artea
BEGIN:VEVENT
DTSTART;VALUE=DATE:20260221
DTEND;VALUE=DATE:20260222
DTSTAMP:20260420T090955
CREATED:20260205T100018Z
LAST-MODIFIED:20260209T143552Z
UID:11696-1771632000-1771718399@fondazioneartea.org
SUMMARY:La rivoluzione della moda etica e responsabile
DESCRIPTION:SABATO 21 FEBBRAIO – ORE 17\nIl Filatoio – Caraglio \nvia Giacomo Matteotti 40 \nLa rivoluzione della moda etica e responsabile\ncon\nSilvia Stella Osella\, consulente di moda responsabile e docente\nMonica Poggi\, storica della fotografia \nUscendo dal focus sulle tematiche fotografiche\, l’incontro si concentrerà sull’impatto della moda nell’accelerazione del cambiamento climatico e sulle responsabilità dell’industria tessile. Attraverso l’esperienza di Silvia Stella Osella\, la discussione metterà al centro pratiche\, materiali e filiere alternative\, proponendo una visione della moda come sistema etico e consapevole. Nel contesto altamente simbolico del Filatoio di Caraglio\, il confronto dialoga idealmente con l’immaginario della moda raccontato nelle mostre di Helmut Newton e Ferdinando Scianna\, spostando lo sguardo dall’estetica dell’immagine alle conseguenze reali dei processi produttivi. \nINGRESSO LIBERO CON PRENOTAZIONE OBBLIGATORIA SU EVENTBRITE \n\n \nSilvia Stella Osella\, designer\, consulente strategica e docente con oltre quindici anni di esperienza nel campo della moda responsabile\, del design tessile e dell’innovazione sostenibile. Dopo aver lavorato in alcune tra le più importanti aziende tessili europee\, nel 2015 ha fondato il proprio studio a Milano\, collaborando con brand internazionali\, aziende manifatturiere e startup innovative. Dal 2008 si occupa attivamente di sostenibilità ambientale e sociale applicata alla moda\, affiancando marchi e manifattura nello sviluppo di progetti che integrano estetica\, ricerca e consapevolezza dei processi. È docente presso Istituto Marangoni\, NABA e Domus Academy. Parallelamente\, svolge attività di formazione corporate e mentorship per startup del settore moda. Collabora inoltre come editor e contributor per testate italiane e internazionali specializzate in moda e sostenibilità. \n© Photo Arianna Roda \n\nMonica Poggi è storica della fotografia e curatrice. Collabora con Fondazione Artea (Cuneo) come Consulente curatoriale per i progetti fotografici e\, dal 2019 al 2025 è stata Curatrice e responsabile mostre presso Camera (Torino). All’attività curatoriale affianca quella di scrittura\, collaborando all’interno di progetti editoriali e riviste di settore. \n© Photo Antonio Jordán \n  \n  \n  \n\n  \n
URL:https://fondazioneartea.org/event/la-rivoluzione-della-moda-etica-e-responsabile/
CATEGORIES:Arte,Conferenza,Mostre,Sostenibilità
ATTACH;FMTTYPE=image/png:https://fondazioneartea.org/wp-content/uploads/2026/02/PP-SITO-WEB-1.png
END:VEVENT
END:VCALENDAR