BEGIN:VCALENDAR
VERSION:2.0
PRODID:-//Fondazione Artea - ECPv4.6.7//NONSGML v1.0//EN
CALSCALE:GREGORIAN
METHOD:PUBLISH
X-WR-CALNAME:Fondazione Artea
X-ORIGINAL-URL:https://fondazioneartea.org
X-WR-CALDESC:Events for Fondazione Artea
BEGIN:VEVENT
DTSTART;VALUE=DATE:20231125
DTEND;VALUE=DATE:20231127
DTSTAMP:20260424T075027
CREATED:20231113T090625Z
LAST-MODIFIED:20250129T140457Z
UID:7579-1700870400-1701043199@fondazioneartea.org
SUMMARY:MERCATINO DI NATALE - 19° edizione
DESCRIPTION:MERCATINO DI VINADIO\nForte di Vinadio\n25-26 novembre 2023 \nQuest’anno grandi novità per il Mercatino di Natale al Forte di Vinadio!\nLa diciannovesima edizione si svolgerà\, completamente al chiuso\, nei nuovi e spaziosi locali restaurati della Caserma Carlo Alberto. \nOltre 1600 mq per 120 bancarelle di prodotti tipici d’eccellenza\, manufatti artigianali\, articoli natalizi e tante altre idee regalo per farvi vivere una due giorni immersi nella magica atmosfera del Natale. \nImmancabile l’appuntamento per i bambini alla Casa di Babbo e Mamma Natale nella suggestiva Cappella del forte. \nE ancora:\n– Fiati al Forte\, intervento musicale nelle antiche prigioni austroungariche a cura de La Fabbrica dei Suoni. Dalle 11 alle 16.30\, cronache di una giornata militare musicate da un trio di fiati e breve visita guidata\, al costo di 2 euro con prenotazione obbligatoria (partenza a gruppi ogni mezz’ora);\n– Passeggiate in carrozza tra le mura della fortezza con i cavalli Mérens a cura di Merens Attacchi;\n– Le sentinelle in grigioverde\, animazione a cura del gruppo rievocatori storici ASFAO. \nPer tutto il weekend\, inoltre\, è previsto il Pranzo in Caserma con piatti della tradizione locale e il servizio bar. \nAccessibilità garantita per le persone con disabilità motoria. \nL’appuntamento\, come sempre\, è l’ultimo weekend di novembre\, sabato 25 dalle 14.00 alle 18.00 e domenica 26 dalle 10.00 alle 18.00. \nL’accesso al Mercatino ha un costo di 3 euro ed è gratuito per i bambini fino a 10 anni e\, il sabato\, per i residenti a Vinadio. \nPer saltare la coda\, si potranno acquistare i biglietti in prevendita su www.ticket.it a partire da mercoledì 15 novembre. \nCONSERVA IL BIGLIETTO DEL MERCATINO! \nAvrai diritto all’ingresso ridotto alle mostre “Inge Morath. L’occhio e l’anima” al Filatoio di Caraglio e “Fotografia è donna” alla Castiglia di Saluzzo. \nPer maggiori informazioni telefonare al 0171/1670042 (dal lunedì al venerdì dalle ore 10 alle ore 17) o scrivere una e-mail a info@fortedivinadio.com. \nCLICCA QUI E SCOPRI IL PROGRAMMA COMPLETO! \n
URL:https://fondazioneartea.org/event/il-mercatino-di-natale-del-forte-di-vinadio/
CATEGORIES:Architettura,Artigianato,food&beverage,Kids&Family,Kids&Family Friendly,mercatino,Storia,Visite guidate
ATTACH;FMTTYPE=image/jpeg:https://fondazioneartea.org/wp-content/uploads/2023/10/Mercatino-di-natale_sito_1200x630px.jpeg
END:VEVENT
END:VCALENDAR