BEGIN:VCALENDAR
VERSION:2.0
PRODID:-//Fondazione Artea - ECPv4.6.7//NONSGML v1.0//EN
CALSCALE:GREGORIAN
METHOD:PUBLISH
X-WR-CALNAME:Fondazione Artea
X-ORIGINAL-URL:https://fondazioneartea.org
X-WR-CALDESC:Events for Fondazione Artea
BEGIN:VEVENT
DTSTART;VALUE=DATE:20250322
DTEND;VALUE=DATE:20250323
DTSTAMP:20260419T224751
CREATED:20250211T131057Z
LAST-MODIFIED:20250211T131136Z
UID:9790-1742601600-1742687999@fondazioneartea.org
SUMMARY:IL FOTOGRAFO CHE GUARDA IL MONDO CON IL SORRISO
DESCRIPTION:\nFar ridere la gente è uno dei risultati più alti che puoi ottenere. E quando puoi far ridere e piangere qualcuno\, alternativamente\, come fa Chaplin\, questo è il più alto di tutti i risultati personali. Elliott Erwitt \n\nSabato 22 marzo – ore 16.30\nIL FOTOGRAFO CHE GUARDA IL MONDO CON IL SORRISO\ncon Michele Pellegrino e Barbara Bergaglio \n \nIl fotografo cuneese Michele Pellegrino dialogherà con Barbara Bergaglio\, curatrice della mostra a lui dedicata\, Michele Pellegrino. Fotografie 1967-2023\, inaugurata negli spazi di CAMERA nel febbraio 2024. Nato nel 1934 a Chiusa di Pesio\, nella sua lunga carriera Michele Pellegrino ha unito l’attività professionale alla ricerca artistica\, raccontando la montagna\, le sue genti\, ma anche aspetti comici del quotidiano che richiamano le scene familiari fotografate da Elliott Erwitt. È il caso dei servizi fotografici di nozze\, durante i quali\, oltre alle fotografie ufficiali\, Pellegrino fissa sulla pellicola momenti dei preparativi e della festa colti con simpatia e un pizzico di ironia: c’è la bella sposa fiera del suo abito\, i camerieri sull’attenti\, le damigelle in attesa\, le coppie felici e i gruppi di famiglia dalla significativa prossemica. Un modo di guardare e fotografare con cui Pellegrino coglie l’ironia\, la poesia e l’immensità del naturale svolgersi della vita. \nIncontro a ingresso libero e gratuito\, fino ad esaurimento posti. Si consiglia la prenotazione. \nPRENOTA \n\nIl Public Program è promosso e organizzato da Fondazione Artea in collaborazione con il Comune di Saluzzo\, a cura di CAMERA – Centro Italiano per la Fotografia. \n
URL:https://fondazioneartea.org/event/il-fotografo-che-guarda-il-mondo-con-il-sorriso/
CATEGORIES:Arte,Conferenza,Fotografia,Mostre
ATTACH;FMTTYPE=image/png:https://fondazioneartea.org/wp-content/uploads/2025/02/pellegrino_cover-1200x630.png
END:VEVENT
END:VCALENDAR