BEGIN:VCALENDAR
VERSION:2.0
PRODID:-//Fondazione Artea - ECPv4.6.7//NONSGML v1.0//EN
CALSCALE:GREGORIAN
METHOD:PUBLISH
X-WR-CALNAME:Fondazione Artea
X-ORIGINAL-URL:https://fondazioneartea.org
X-WR-CALDESC:Events for Fondazione Artea
BEGIN:VEVENT
DTSTART;VALUE=DATE:20250216
DTEND;VALUE=DATE:20250217
DTSTAMP:20260424T074434
CREATED:20250211T150702Z
LAST-MODIFIED:20250211T150806Z
UID:9828-1739664000-1739750399@fondazioneartea.org
SUMMARY:Fotografia e arte contemporanea
DESCRIPTION:Nell’ambito della mostra “ELLIOTT ERWITT. L’ideale fuggevole”\, domenica 16 febbraio\, alle ore 16.30 in Castiglia\, si terrà  un incontro speciale dal titolo “Fotografia e arte contemporanea: una conversazione con Nicolas Ballario”\, promosso dal Comune di Saluzzo e a cura della Fondazione Garuzzo. \nInsieme a Nicolas Ballario\, critico d’arte\, curatore\, giornalista e Alessandro Carrer\, direttore della Fondazione Garuzzo e curatore\, si approfondirà il rapporto tra fotografia e arte contemporanea utilizzando quale spunto le immagini di Elliot Erwitt e le opere dell’Esposizione e Collezione Permanente in mostra alla Castiglia. Il dialogo\, tra aneddoti e considerazioni\, ci condurrà ad esplorare questioni storiche\, pratiche e teoriche per raccontare\, non senza  un po’ di leggerezza\, il sistema dell’arte contemporanea. \nIngresso libero fino a esaurimento posto. Si consiglia la prenotazione sulla pagina Eventbrite del Comune di Saluzzo o scrivendo a musa@itur.it \n
URL:https://fondazioneartea.org/event/fotografia-e-arte-contemporanea/
CATEGORIES:Arte,Conferenza,Fotografia,Incontro
ATTACH;FMTTYPE=image/png:https://fondazioneartea.org/wp-content/uploads/2025/02/PP-ERW_COVER-SITO-WEB_1200X630.png
END:VEVENT
END:VCALENDAR