BEGIN:VCALENDAR
VERSION:2.0
PRODID:-//Fondazione Artea - ECPv4.6.7//NONSGML v1.0//EN
CALSCALE:GREGORIAN
METHOD:PUBLISH
X-WR-CALNAME:Fondazione Artea
X-ORIGINAL-URL:https://fondazioneartea.org
X-WR-CALDESC:Events for Fondazione Artea
BEGIN:VEVENT
DTSTART;VALUE=DATE:20230929
DTEND;VALUE=DATE:20231002
DTSTAMP:20260419T172755
CREATED:20230919T103055Z
LAST-MODIFIED:20240730T112047Z
UID:7367-1695945600-1696204799@fondazioneartea.org
SUMMARY:FORTI FORTISSIMI!
DESCRIPTION:\nAggiornamento eventi: \nSOLD OUT\n29/09 – Forte di Vinadio | La musica dei numeri con Piergiorgio Odifreddi\ne Valentino Corvino (violino ed elettronica)\ndi Corvino Produzioni\, a cura di Piemonte dal Vivo \n\nFORTI FORTISSIMI! [29.09 – 01.10.2023]\nUn weekend alla scoperta delle fortificazioni piemontesi\nForte di Vinadio | Forte di Exilles | Forte di Fenestrelle | Forte di Gavi | Cittadella di Alessandria \nCinque forti per una tre giorni di aperture straordinarie\, visite guidate inusuali\, spettacoli dal vivo e momenti di comunità\, con l’obiettivo di valorizzare lo straordinario patrimonio delle fortificazioni piemontesi. Un ventaglio di esperienze uniche e imperdibili da vivere dentro e fuori le mura dei più importanti siti fortificati del Piemonte. \nCLICCA QUI E SCOPRI IL PROGRAMMA! \n\nFORTI FORTISSIMI! è un’iniziativa di valorizzazione turistico-culturale della Regione Piemonte\, realizzata con il sostegno della Fondazione Compagnia di San Paolo e il coordinamento della Fondazione Artea\, che avrà luogo da venerdì 29 settembre a domenica 1° ottobre e vedrà protagonisti i forti di Vinadio Exilles\, Fenestrelle\, Gavi e la Cittadella di Alessandria con un ricco calendario di appuntamenti. \n \n\n\nSi tratta di una tre giorni che coniuga aperture straordinarie e visite guidate ai siti\, spettacoli teatrali e attività outdoor. Per un week-end le cinque fortezze piemontesi si uniranno in un unico circuito museale e culturale diffuso con proposte pensate per un target diversificato di visitatori e turisti\, che include appassionati di storia\, cultura\, natura\, ma anche giovani e famiglie. In particolare\, proprio per il pubblico di famiglie con bambini è stata prodotta una serie di podcast*\, disponibili su tutte le piattaforme audio\, che invitano alla scoperta dei forti piemontesi attraverso il linguaggio fantastico delle fiabe della buonanotte. Saranno previste\, inoltre\, per ognuno dei cinque forti\, visite guidate con servizio di bus andata-ritorno da Torino.  \n\n  \nIl progetto rappresenta una prima azione di un più ampio piano di valorizzazione culturale e di promozione turistica del sistema delle fortificazioni piemontesi\, patrimonio storico-culturale di particolare valore del Piemonte\, sul quale la Regione Piemonte e la Fondazione Compagnia di San Paolo hanno convenuto di agire congiuntamente in una prospettiva di crescita e sviluppo sostenibile dei territori. \nSCARICA IL PROGRAMMA COMPLETO \n\n* Volete viaggiare con la fantasia alla scoperta dei forti piemontesi insieme ai vostri bambini? Cliccate qui e ascoltate i podcast di fiabe della Buonanotte “Fila a nanna” realizzati da Abbonamento Musei e Fondazione TRG in occasione di FORTI FORTISSIMI! Tra mura possenti\, passaggi segreti\, ponti levatoi e antiche battaglie\, farete la conoscenza dei simpatici personaggi che popolano cinque incredibili fortezze\ndel Piemonte. \n\n\nFORTI FORTISSIMI!\nUn progetto di Regione Piemonte\nCon il sostegno della Fondazione Compagnia di San Paolo\nOrganizzazione e coordinamento Fondazione Artea\nIn collaborazione con AssociazioneAbbonamento Musei\, FondazionePiemonte dal Vivo\, Visit Piemonte\nCon il supporto di Ministero della Cultura – Soprintendenza Archeologica\, Belle Arti e Paesaggio per le province di Alessandria\, Asti e Cuneo | Ministero della Cultura – Direzione Regionale Musei Piemonte | Fai – Fondo Ambiente Italiano | Comune di Alessandria | Comune di Exilles | Comune di Vinadio | Associazione Amici del Forte di Exilles | Associazione Culturale Revejo | Associazione Progetto San Carlo Forte di Fenestrelle Onlus \n  \n\n\n \n\n  \nFoto: Forte di Exilles © Federico Milesi / Forte di Fenestrelle © Riccardo Bussano \n
URL:https://fondazioneartea.org/event/forti-fortissimi/
CATEGORIES:Architettura,Arte,Ciclotour,Concerti,E-bike,Kids&Family,Letteratura,Musica,Storia,Visite guidate
ATTACH;FMTTYPE=image/jpeg:https://fondazioneartea.org/wp-content/uploads/2023/09/Grafiche-digital-Forti-Fortissimi_sito3.jpeg
END:VEVENT
END:VCALENDAR