BEGIN:VCALENDAR
VERSION:2.0
PRODID:-//Fondazione Artea - ECPv4.6.7//NONSGML v1.0//EN
CALSCALE:GREGORIAN
METHOD:PUBLISH
X-WR-CALNAME:Fondazione Artea
X-ORIGINAL-URL:https://fondazioneartea.org
X-WR-CALDESC:Events for Fondazione Artea
BEGIN:VEVENT
DTSTART;VALUE=DATE:20200913
DTEND;VALUE=DATE:20200914
DTSTAMP:20260420T000511
CREATED:20200704T033828Z
LAST-MODIFIED:20200704T041223Z
UID:5175-1599955200-1600041599@fondazioneartea.org
SUMMARY:FORTEmente ECO - La marionetta
DESCRIPTION:Laboratori didattici e creativi per famiglie al Forte di Vinadio \nDOMENICA 13 SETTEMBRE\nore 15.00 – App interattiva LA LETTERA PERDUTA\nore 16.00 – Laboratorio eco-friendly LA MARIONETTA \nDomenica 13 settembre al Forte di Vinadio avrà luogo il quarto appuntamento del programma FORTEmente ECO\, una serie di incontri a tema Eco-Friendly che la Fondazione Artea e il Comune di Vinadio proporranno ogni seconda domenica del mese fino a ottobre per sensibilizzare le famiglie con bambini da 3 a 12 anni al rispetto dell’ambiente\, in occasione di visite didattiche a loro dedicate. \nNello specifico\, le attività di domenica 13 settembre prevedono\, alle 15\, la visita animata “LA LETTERA PERDUTA” una divertente e appassionante missione di salvataggio tra le mura del forte. Alle 16\, invece\, si terrà il laboratorio eco-friendly “LA MARIONETTA”\, a cura di Michela Basso e Nadia Garnero\, in cui i piccoli visitatori daranno vita a fantastiche marionette utilizzando materiale di riciclo. \nI bambini partecipanti verranno omaggiati con un astuccio #SEITUECOCOMPATIBILE? realizzato con teli di recupero dall’azienda Giesse Logistica e una bottiglietta SanThè delle Fonti di Vinadio. \nBIGLIETTO: € 8\,00 a bambino. Gratuito per gli adulti (max 2 accompagnatori).\nComprensivo di ingresso al Forte\, visita\, laboratorio e materiali didattici. \nPrenotazione è obbligatoria. \nTutte le attività saranno svolte in sicurezza nel rispetto dei protocolli anti Covid-19 e per i bambini al di sotto dei 6 anni non c’è obbligo di indossare la mascherina. \nINFO E PRENOTAZIONI: T. 0171 959151 – 3404962384 – info@fortedivinadio.com \nCALENDARIO ATTIVITÀ KIDS & FAMILY \n\nIl programma FORTEmente ECO\, realizzato nell’ambito del progetto “Et Voilà” finanziato dalla Fondazione CRC (Bando Musei da Vivere 2019-2020)\, vede capofila il Comune di Vinadio\, in partenariato con l’Unione Montana Valle Stura e la Fondazione Artea\, incaricata del coordinamento. \nFORTEmente ECO si rivolge al target delle famiglie italiane e francesi e si pone l’obiettivo di promuovere e rendere fruibili gli spazi museali del Forte mediante l’attivazione di percorsi di visita e attività di animazione a misura di bambino. Attraverso iniziative di educazione alla sostenibilità\, famiglie e bambini sono invitati alla scoperta di nuovi modi per essere ecologici\, ridurre i consumi e agire nel rispetto dell’ambiente. Così il Forte di Vinadio mira a far comprendere quanto la sostenibilità possa diventare semplice e naturale\, proponendo ai suoi visitatori piccoli accorgimenti\, idee e soluzioni green da adottare all’interno delle mura domestiche. \n
URL:https://fondazioneartea.org/event/fortemente-eco-la-marionetta/
CATEGORIES:Kids&Family,Laboratori,Visite guidate
ATTACH;FMTTYPE=image/jpeg:https://fondazioneartea.org/wp-content/uploads/2020/07/IMMAGINE_SITO_ARTEA_EVENTO4.jpg
END:VEVENT
END:VCALENDAR