BEGIN:VCALENDAR
VERSION:2.0
PRODID:-//Fondazione Artea - ECPv4.6.7//NONSGML v1.0//EN
CALSCALE:GREGORIAN
METHOD:PUBLISH
X-WR-CALNAME:Fondazione Artea
X-ORIGINAL-URL:https://fondazioneartea.org
X-WR-CALDESC:Events for Fondazione Artea
BEGIN:VEVENT
DTSTART;TZID=Europe/Rome:20200614T150000
DTEND;TZID=Europe/Rome:20200614T170000
DTSTAMP:20260420T000840
CREATED:20200604T165632Z
LAST-MODIFIED:20200704T035001Z
UID:5078-1592146800-1592154000@fondazioneartea.org
SUMMARY:FORTEmente ECO - Il ramo dei sogni
DESCRIPTION:Laboratori didattici e creativi per famiglie al Forte di Vinadio\n  \nDOMENICA 14 GIUGNO\nore 15.00 – Visita animata SUA MAESTÀ IL FORTE\nore 16.00 – Laboratorio eco-friendly IL RAMO DEI SOGNI  \n  \nDomenica 14 giugno al Forte di Vinadio avrà luogo il primo appuntamento del programma FORTEmente ECO\, una serie di cinque incontri a tema Eco-Friendly che la Fondazione Artea e il Comune di Vinadio proporranno ogni seconda domenica del mese fino a ottobre per sensibilizzare le famiglie con bambini da 3 a 12 anni al rispetto dell’ambiente\, in occasione di visite didattiche a loro dedicate. \nIl programma FORTEmente ECO\, realizzato nell’ambito del progetto “Et Voilà” finanziato dalla Fondazione CRC (Bando Musei da Vivere 2019-2020)\, vede capofila il Comune di Vinadio\, in partenariato con l’Unione Montana Valle Stura e la Fondazione Artea\, incaricata del coordinamento. \nFORTEmente ECO si rivolge al target delle famiglie italiane e francesi e si pone l’obiettivo di promuovere e rendere fruibili gli spazi museali del Forte mediante l’attivazione di percorsi di visita e attività di animazione a misura di bambino. Attraverso iniziative di educazione alla sostenibilità\, famiglie e bambini sono invitati alla scoperta di nuovi modi per essere ecologici\, ridurre i consumi e agire nel rispetto dell’ambiente. Così il Forte di Vinadio mira a far comprendere quanto la sostenibilità possa diventare semplice e naturale\, proponendo ai suoi visitatori piccoli accorgimenti\, idee e soluzioni green da adottare all’interno delle mura domestiche. \nNello specifico\, le attività di domenica 14 giugno prevedono\, alle 15\,  la visita animata “Sua Maestà il Forte” dove i bambini partecipanti guidati dalle sagome della mascotte Tino\, il Sergente colombo del Fortino\, e con l’ausilio di un libro-poster tutto da costruire\, si divertiranno a scoprire la storia e le curiosità della fortezza militare con varie interazioni sensoriali. Alle 16\, invece\, si terrà il laboratorio eco-friendly “Il ramo dei sogni”\, a cura di Michela Basso e Nadia Garnero\, che aiuteranno i piccoli visitatori a   realizzare  un ramo speciale a cui appendere mille forme e materiali per decorare le finestre e sognare un mondo sempre più pulito. \nI bambini partecipanti verranno omaggiati con un astuccio #SEITUECOCOMPATIBILE? realizzato con teli di recupero dall’azienda Giesse Logistica e una bottiglietta SanThè delle Fonti di Vinadio. \nBIGLIETTO: € 8\,00 a bambino. Gratuito per gli adulti (max 2 accompagnatori).\nComprensivo di ingresso al Forte\, visita\, laboratorio e materiali didattici. \nPrenotazione è obbligatoria. \nTutte le attività saranno svolte in sicurezza nel rispetto dei protocolli anti Covid-19 e per i bambini al di sotto dei 6 anni non c’è obbligo di indossare la mascherina. \nINFO E PRENOTAZIONI: T. 0171 959151 – 3404962384 – info@fortedivinadio.com \nCALENDARIO ATTIVITÀ KIDS & FAMILY \n  \n
URL:https://fondazioneartea.org/event/fortemente-eco-il-ramo-dei-sogni/
CATEGORIES:Kids&Family,Laboratori,Visite guidate
ATTACH;FMTTYPE=image/jpeg:https://fondazioneartea.org/wp-content/uploads/2020/06/IMMAGINE_SITO_ARTEA_EVENTO.jpg
END:VEVENT
END:VCALENDAR