BEGIN:VCALENDAR
VERSION:2.0
PRODID:-//Fondazione Artea - ECPv4.6.7//NONSGML v1.0//EN
CALSCALE:GREGORIAN
METHOD:PUBLISH
X-WR-CALNAME:Fondazione Artea
X-ORIGINAL-URL:https://fondazioneartea.org
X-WR-CALDESC:Events for Fondazione Artea
BEGIN:VEVENT
DTSTART;VALUE=DATE:20220821
DTEND;VALUE=DATE:20220822
DTSTAMP:20260419T205356
CREATED:20220606T101753Z
LAST-MODIFIED:20220606T103302Z
UID:6522-1661040000-1661126399@fondazioneartea.org
SUMMARY:+FORTE OUTDOOR ~ PEDALATA PANORAMICA
DESCRIPTION:Nell’ambito della rassegna +FORTE… \nFondazione Artea e Forte di Vinadio presentano il 4^ appuntamento +FORTE OUTDOOR\, il calendario di visite guidate\, escursioni\, percorsi orienteering e cicloturistici per approfondire l’arte\, l’architettura militare e la storia del Forte di Vinadio.\nIn collaborazione con Valle Stura Experience \nDomenica 21 agosto\, dalle 14.30 alle 17.30\nPEDALATA PANORAMICA\nIl Forte Serziera\, posto su quello spettacolare poggio panoranico\, vi invita a raggiungerlo in e-bike. Facile giro ad anello\, con partenza da Vinadio\, su strade militari che si arrampicano sul pendio roccioso. Lungo l’itinerario\, sosta alla batteria Piroat con vista alla postazione per mortai e alla polveriera sotterranea. \nAttività per adulti e ragazzi\nmin 5 max 10 persone\n€ 18 a persona + € 25 noleggio bici\nSi consigliano abbigliamento e calzature comode \nPRENOTAZIONE OBBLIGATORIA\nM. 328 203 2182\nTelefonare entro le ore 18.00 del sabato antecedentemente l’evento. \nSCOPRI IL PROGRAMMA COMPLETO +FORTE \n  \n  \n
URL:https://fondazioneartea.org/event/forte-pedalata-panoramica/
CATEGORIES:Architettura,Arte,Ciclotour,E-bike,Storia,Visite guidate
ATTACH;FMTTYPE=image/jpeg:https://fondazioneartea.org/wp-content/uploads/2022/06/Forte_4433x2521_sitoArtea9.jpg
END:VEVENT
END:VCALENDAR