BEGIN:VCALENDAR
VERSION:2.0
PRODID:-//Fondazione Artea - ECPv4.6.7//NONSGML v1.0//EN
CALSCALE:GREGORIAN
METHOD:PUBLISH
X-WR-CALNAME:Fondazione Artea
X-ORIGINAL-URL:https://fondazioneartea.org
X-WR-CALDESC:Events for Fondazione Artea
BEGIN:VEVENT
DTSTART;VALUE=DATE:20220515
DTEND;VALUE=DATE:20220516
DTSTAMP:20260424T075022
CREATED:20220428T100512Z
LAST-MODIFIED:20220428T100926Z
UID:6417-1652572800-1652659199@fondazioneartea.org
SUMMARY:+FORTE OUTDOOR ~ ARTE TRA LE MURA
DESCRIPTION:Nell’ambito della rassegna +FORTE… \nFondazione Artea e Forte di Vinadio presentano il primo appuntamento +FORTE OUTDOOR\, il calendario di visite guidate\, escursioni\, percorsi orienteering e cicloturistici per approfondire l’arte\, l’architettura militare e la storia del Forte di Vinadio.\nIn collaborazione con Valle Stura Experience \nDomenica 15 maggio\, dalle 14.30 alle 17.30\nARTE TRA LE. MURA\nItinerario di visita dedicato all’arte fuori e dentro le mura della fortezza. Un tuffo nel passato\, tra le opere di pregio storico-artistico della chiesa di San Fiorenzo e nel presente\, attraverso le installazioni di arte contemporanea del forte. \nAttività per adulti e bambini\nmin 10 – max 30 persone\nintero € 10 /ridotto € 8 \nSi consigliano abbigliamento e calzature comode. \nPRENOTAZIONE OBBLIGATORIA\nM. 328 203 2182\nTelefonare entro le ore 18.00 del sabato antecedentemente l’evento. \nSCOPRI IL PROGRAMMA COMPLETO +FORTE \n
URL:https://fondazioneartea.org/event/forte-outdoor-arte-tra-le-mura/
CATEGORIES:Architettura,Arte,Storia,Visite guidate
ATTACH;FMTTYPE=image/png:https://fondazioneartea.org/wp-content/uploads/2022/04/Forte_4433x25212.png
END:VEVENT
END:VCALENDAR