BEGIN:VCALENDAR
VERSION:2.0
PRODID:-//Fondazione Artea - ECPv4.6.7//NONSGML v1.0//EN
CALSCALE:GREGORIAN
METHOD:PUBLISH
X-WR-CALNAME:Fondazione Artea
X-ORIGINAL-URL:https://fondazioneartea.org
X-WR-CALDESC:Events for Fondazione Artea
BEGIN:VEVENT
DTSTART;VALUE=DATE:20220918
DTEND;VALUE=DATE:20220919
DTSTAMP:20260420T003058
CREATED:20220606T103613Z
LAST-MODIFIED:20220606T104135Z
UID:6526-1663459200-1663545599@fondazioneartea.org
SUMMARY:+FORTE OUTDOOR ~ A SUON DI BATTERIE. SERZIERA\, SOURCES E PIROAT
DESCRIPTION:Nell’ambito della rassegna +FORTE… \nFondazione Artea e Forte di Vinadio presentano il 5^ ed ultimo appuntamento +FORTE OUTDOOR\, il calendario di visite guidate\, escursioni\, percorsi orienteering e cicloturistici per approfondire l’arte\, l’architettura militare e la storia del Forte di Vinadio.\nIn collaborazione con Valle Stura Experience \nDomenica 18 settembre\, dalle 10.00 alle 16.00\nA SUON DI BATTERIE. SERZIERA\, SOURCES E PIROAT\nVisita animata da musica e canti della tradizione occitana alla scoperta delle batterie Serziera\, Corpo di guardia Sources e Piroat. Dalla frazione Pratolungo\, attraverso un sentiero nel bosco\, si raggiungonole strutture militari e ad attendervi una spettacolare vista sul vallone di Riofreddo e l’imponente monte Malinvern. \nAttività per adulti e bambini\nmin 10 – max 30 persone\ninterno € 15 / ridotto € 13\nSi consigliano abbigliamento e calzature comode \nPRENOTAZIONE OBBLIGATORIA\nM. 328 203 2182\nTelefonare entro le ore 18.00 del sabato antecedentemente l’evento. \n  \n
URL:https://fondazioneartea.org/event/forte-outdoor-a-suon-di-batterie-serziera-sources-e-piroat/
CATEGORIES:Architettura,Arte,Musica,trekking,Visite guidate
ATTACH;FMTTYPE=image/jpeg:https://fondazioneartea.org/wp-content/uploads/2022/06/Forte_4433x2521_sitoArtea10.jpg
END:VEVENT
END:VCALENDAR