BEGIN:VCALENDAR
VERSION:2.0
PRODID:-//Fondazione Artea - ECPv4.6.7//NONSGML v1.0//EN
CALSCALE:GREGORIAN
METHOD:PUBLISH
X-WR-CALNAME:Fondazione Artea
X-ORIGINAL-URL:https://fondazioneartea.org
X-WR-CALDESC:Events for Fondazione Artea
BEGIN:VEVENT
DTSTART;VALUE=DATE:20220619
DTEND;VALUE=DATE:20220620
DTSTAMP:20260424T091232
CREATED:20220606T083312Z
LAST-MODIFIED:20220606T083312Z
UID:6497-1655596800-1655683199@fondazioneartea.org
SUMMARY:+FORTE OUTDOOR ~ A SUON DI BATTERIE. NEGHINO
DESCRIPTION:Nell’ambito della rassegna +FORTE… \nFondazione Artea e Forte di Vinadio presentano il secondo appuntamento +FORTE OUTDOOR\, il calendario di visite guidate\, escursioni\, percorsi orienteering e cicloturistici per approfondire l’arte\, l’architettura militare e la storia del Forte di Vinadio.\nIn collaborazione con Valle Stura Experience \nDomenica 19 giugno\, dalle 10.00 alle 16.00\nA SUON DI BATTERIE. NEGHINO\nVisita animata da musica e canti della tradizione occitana alla scoperta della batteria Neghino\, l’unica che si contraddistingue dalle altre per la sua particolare forma ellittica. Dalla sommità della roccia che porta il suo nome potrete godere di un bellissimo panorama sulla Valle Stura. Ritorno con giro ad anello dalla borgata Lentre. \nAttività per adulti e bambini\nmin 10 – max 30 persone\nintero € 15 / ridotto € 13 \nSi consigliano abbigliamento e calzature comode. \nPRENOTAZIONE OBBLIGATORIA\nM. 328 203 2182\nTelefonare entro le ore 18.00 del sabato antecedentemente l’evento. \nSCOPRI IL PROGRAMMA COMPLETO +FORTE \n
URL:https://fondazioneartea.org/event/forte-outdoor-a-suon-di-batterie-neghino/
CATEGORIES:Architettura,Arte,Musica,Storia,trekking,Visite guidate
ATTACH;FMTTYPE=image/jpeg:https://fondazioneartea.org/wp-content/uploads/2022/06/Forte_4433x2521_sitoArtea7.jpg
END:VEVENT
END:VCALENDAR