BEGIN:VCALENDAR
VERSION:2.0
PRODID:-//Fondazione Artea - ECPv4.6.7//NONSGML v1.0//EN
CALSCALE:GREGORIAN
METHOD:PUBLISH
X-WR-CALNAME:Fondazione Artea
X-ORIGINAL-URL:https://fondazioneartea.org
X-WR-CALDESC:Events for Fondazione Artea
BEGIN:VEVENT
DTSTART;VALUE=DATE:20220710
DTEND;VALUE=DATE:20220711
DTSTAMP:20260424T075022
CREATED:20220606T094718Z
LAST-MODIFIED:20220606T100500Z
UID:6510-1657411200-1657497599@fondazioneartea.org
SUMMARY:+FORTE KIDS ~ IL REGALO MISTERIOSO
DESCRIPTION:Nell’ambito della rassegna +FORTE… \nFondazione Artea e Forte di Vinadio presentano il 3^ appuntamento +FORTE KIDS\, il calendario di laboratori ludico-didattici alla scoperta della sommità del fortino\, con narrazioni e interventi musicali nella polveriera e nella misteriosa “Caverna Comando”. \nAttività per famiglie con bambini 6-10 anni in collaborazione con La Fabbrica dei Suoni \nDomenica 10 luglio\, dalle 15.00 alle 17.00\nIL REGALO MISTERIOSO\nUn grosso regalo vi attende sulle scalinate del Forte di Vinadio… chissà cosa contiene! Scopriamolo insieme con giochi musicali\, canti e filastrocche per sperimentare nuovi modi di utilizzare voce e corpo.\nSe vi va\, partecipate mascherati da giocoliere \nBIGLIETTI FAMILY\n3 persone 20 €\n4 persone 24 €\n5 persone 28 € \nPRENOTAZIONE OBBLIGATORIA\nTel. 328 203 2182 / 0171 959151 (biglietteria del Forte).\nOrari di luglio: dal giovedì al sabato 14.30-19; domenica\, 10-19 \nSCOPRI IL PROGRAMMA COMPLETO +FORTE \n
URL:https://fondazioneartea.org/event/forte-kids-il-regalo-misterioso/
CATEGORIES:Incontro,Kids&Family,Kids&Family Friendly,Laboratori,Musica,Storia,Visite guidate
ATTACH;FMTTYPE=image/jpeg:https://fondazioneartea.org/wp-content/uploads/2022/06/Forte_4433x2521_sitoArtea3.jpg
END:VEVENT
END:VCALENDAR