BEGIN:VCALENDAR
VERSION:2.0
PRODID:-//Fondazione Artea - ECPv4.6.7//NONSGML v1.0//EN
CALSCALE:GREGORIAN
METHOD:PUBLISH
X-WR-CALNAME:Fondazione Artea
X-ORIGINAL-URL:https://fondazioneartea.org
X-WR-CALDESC:Events for Fondazione Artea
BEGIN:VEVENT
DTSTART;VALUE=DATE:20250607
DTEND;VALUE=DATE:20250609
DTSTAMP:20260424T074921
CREATED:20250520T083126Z
LAST-MODIFIED:20250529T084935Z
UID:10409-1749254400-1749427199@fondazioneartea.org
SUMMARY:FORTE IN FIORE / V edizione
DESCRIPTION:A Vinadio torna Forte in fiore\, la mostra-mercato che ospita\, negli ampi spazi verdi del Forte Albertino\, piante\, fiori\, artigianato green e prodotti tipici del territorio\, in un tripudio di colori\, profumi e sapori. \nAd arricchire la manifestazione il programma off  Un respiro nel caos. Riconquistare il proprio tempo in montagna\, con una serie di iniziative che promuovono uno stile di vita più lento e consapevole: talk\, spettacoli\, laboratori culinari\, pedalate ecologiche e pilates su fieno\, per riconnettersi con la natura e rigenerare corpo e mente. \nCLICCA QUI E SCARICA IL PROGRAMMA COMPLETO \n__\nOrari: sabato 7\, dalle 14 alle 19\, domenica 8\, dalle 9.30 alle 19\nIngresso: € 3*\n*include mostra-mercato + programma off. Gratuito per under 10 e residenti a Vinadio (solo il sabato) \nBiglietti in prevendita su ticket.it  \n\nFORTE IN FIORE OFF\nUN RESPIRO NEL CAOS | Riconquistare il proprio tempo in montagna \nQuando parliamo di vita lenta non ci riferiamo solo a una questione di tempo\, ma anche ad un approccio alla vita che privilegia la qualità delle esperienze.\nLa vita “in” e “di” montagna permette di riscoprire valori autentici\, di ritrovare il proprio equilibrio e di adottare comportamenti più consapevoli e attenti al benessere psico-fisico\, offrendo un’alternativa alla frenesia della vita moderna. \nPROGRAMMA \nTEMPO DI ASCOLTO \nRivellino del Forte\nSABATO 7 GIUGNO \nDue momenti di incontro che sono un invito ad ascoltare le vicende di chi per lavoro e/o per passione ha scelto di vivere a stretto contatto con la montagna. \nore 15.30\nVIVERE E LAVORARE NELLE TERRE ALTE. L’economia virtuosa della montagna \nMichele Donalisio\nImprenditore e divulgatore. Fondatore di Produzione Lenta che si impegna a creare abbigliamento sostenibile\, etico e di alta qualità\, rispettando l’ambiente e le persone. \nLuca Lingua\nImprenditore e fondatore di SAMYA Benessere\, un luogo immerso nei boschi dell’Alta Valle Pesio che nasce con lo scopo di promuovere e divulgare le “culture del benessere” e propone esperienze per prendersi cura di sé. \nDonata Verna e Matthias Nanz\nLei art director e pittrice di Milano\, lui avvocato di Monaco di Baviera. Dopo anni di vita frenetica metropolitana decidono di fermarsi a Vinadio\, paese di origine della famiglia di Donata\, per gestire il locale “La Crosa”\, all’interno del Forte. \nin dialogo con\nCinzia Dutto\, blogger e scrittrice \nIntermezzo musicale a cura di\nMarianna Brondello\, violino\nMaria Antonietta Carafa\, arpa \n///////////// \nore 16.30\nSPAZIO E TEMPO. Un viaggio nel cuore della montagna \nEnrico Camanni\nScrittore\, giornalista e alpinista. La sua passione per l’alpinismo lo ha portato al giornalismo di montagna\, alternando l’attività sul campo con la scrittura. È autore di numerosi libri sulla storia della montagna e dell’alpinismo. Collabora con riviste specializzate e generaliste\, scrivendo articoli su alpinismo\, cultura alpina e ambiente. Negli ultimi anni si è dedicato alla narrativa\, scrivendo romanzi gialli ambientati in montagna. Nel 2023 è stato lo “Scrittore in residenza” di Oltre le Vette. È socio accademico del CAI. \nNicolas Crunchant\nGuida naturalistica oltre che scrittore e\, dal 2020\, anche sindaco del comune francese alle pendici del Monviso in cui vive e vicepresidente della riserva naturale che lo circonda. È autore di due serie di romanzi gialli pubblicate dalle Editions du Queyras. Delitti alle Traversette (2020)\, Appuntamento fatale al Clot Sablé (2021) e I predatori del Monviso (2022) sono i suoi romanzi apparsi in Italia\, con successo\, per Fusta Editore. \nMarika Abbà\nAccompagnatrice turistica\, guida escursionistica e alpinista appassionata di storia e viaggi. Con l’inseparabile macchina fotografica e zainetto rosso va alla scoperta di luoghi poco conosciuti\, dove ci sono montagne. La parete inviolata\, prima ascesa del versante nord-ovest del Monviso (2024) è il suo romanzo d’esordio. \nin dialogo con\nErich Giordano\, scrittore e curatore di mostre\, da anni analizza e approfondisce i rapporti tra uomo\, società\, cultura e ambiente. \n\nTEMPO DI LETTURA \nRivellino del Forte\nSABATO 7 GIUGNO | 14.00 – 19.00\nDOMENICA 8 GIUGNO | 9.30 – 19.00 \nLIBRI IN QUOTA\na cura di ALIE di Luca Fenoglio\nLa libreria di “Forte in fiore” vi aspetta negli spazi del Rivellino\, un luogo ideale per rilassarsi\, leggere e godersi la natura e la storia del luogo. Allestita con materiali di riciclo\, pallet e balle di fieno promuove la lettura all’aria aperta\, contribuendo a creare una comunità più consapevole e sostenibile. Un’ottima occasione\, inoltre\, per scoprire nuovi libri e autori del territorio\, e per incontrare altre persone che condividono la passione per la lettura. \n\nTEMPO DI BENESSERE \nFossato del Forte\nSABATO 7 GIUGNO | 14.00 – 18.00 \nPEDALATA ECOLOGICA\, TRA NATURA E STORIA\nUn percorso in bicicletta\, da fare in autonomia con l’utilizzo delle e-bike del forte\, che intreccia storia\, natura e sostenibilità. Si attraversa il maestoso fossato\, i cortili erbosi e la piazza d’armi del forte\, passando anche attorno al lago artificiale del forte\, un progetto turistico sostenibile che permette al Comune di Vinadio di generare energia elettrica pulita.  \nPartenze dall’info point in piazza Vittorio Veneto: ore 14 / ore 15.30 / ore 17 (3 turni). Max 10 persone per turno. Durata attività 1h.\nPrenotazione obbligatoria su Eventbrite di Fondazione Artea\nTurno 1° – ore 14 >> PRENOTA\nTurno 2° – ore 15.30 >> PRENOTA\nTurno 3° – ore 17 >> PRENOTA \n///////////// \nRivellino del Forte\nDOMENICA 8 GIUGNO | 10.30 – 12.30 \nPILATES SUL FIENO\na cura di ASD Allinea-mente: Corpo e Mente in Equilibrio\nUn’esperienza multisensoriale unica che combina i benefici del Pilates con il potere rigenerante della natura. Il fieno\, con il suo profumo intenso e la sua consistenza morbida\, crea un’atmosfera rilassante e coinvolgente. \nAttività libera\, aperta a tutti\, max 15 persone a sessione.\nPrenotazione obbligatoria su Eventbrite di Fondazione Artea\n1^ sessione\, dalle 10.30 alle 11.15 >> PRENOTA\n2^ sessione\, dalle 11.30 alle 12.15 >> PRENOTA \n\nTEMPO DI STORIE \nMontagna in Movimento\nDOMENICA 8 GIUGNO | ore 11.30 e 14.30 \nSpettacolo teatrale itinerante\, per grandi e piccini\, all’interno del percorso multimediale del Forte\nNEVINA E FIORDAPRILE. L’ARRIVO DELLA PRIMAVERA AL FORTE DI VINADIO\na cura di Claudio Dughera e Alice De Bacco \nLa fiaba Nevina e Fiordaprile di Guido Gozzano celebra l’amore che sboccia tra due mondi apparentemente inconciliabili\, un inno alla speranza\, capace di superare ogni ostacolo e pregiudizio. Il Forte di Vinadio\, con le sue imponenti mura e i suoi spazi suggestivi\, diventa lo scenario perfetto per dare vita alla delicata storia d’amore tra Nevina\, la fanciulla candida come la neve\, e Fiordaprile\, il giovane pastore dal cuore gentile. Lo spettacolo si snoda attraverso le sale del percorso espositivo “Montagna in Movimento”\, dove le scenografie multimediali e le proiezioni evocative accompagneranno gli spettatori in un viaggio emozionante tra le pagine della fiaba di Gozzano. \nDurata 1h 15’. Max 30 partecipanti a replica.\nPrenotazione obbligatoria su Eventbrite di Fondazione Artea\nore 11.30 – Prima replica >> PRENOTA\nore 14.30 – Seconda replica >> PRENOTA \n\nTEMPO DI TRADIZIONI \nRivellino del Forte\nSABATO 7 E DOMENICA 8 GIUGNO \nProgramma di attività e offerte culinarie per conoscere la tradizionale pasta fresca di Vinadio\nCROUSET. Fiore all’occhiello della Valle Stura\na cura del gruppo La Rasdouireto \nLe ricette di un tempo sono un patrimonio da condividere con le nuove generazioni. Trasmettere questi saperi significa tramandare un pezzo della nostra cultura\, della nostra storia\, ma anche un modo di cucinare più autentico\, legato alla stagionalità dei prodotti e alla sapienza popolare. \nSABATO 7\, dalle 15 alle 18\nMani in pasta. Laboratorio di Crouset per bambini\nSporcarsi le mani non è mai stato così divertente! Vi aspettiamo per impastare e ricreare le inconfondibili pieghe dei crouset.\nInfo e prenotazioni laboratorio 328 2032182. \nDOMENICA 8 \, dalle 10 alle 18\nDimostrazione di Crouset\nUna lezione aperta a tutti con le mastre pastaie di Vinadio per imparare a preparare uno dei piatti tipici della Valle Stura e della tradizione occitana.\nSi consiglia di dotarsi di un grembiule e di un canovaccio. \nSABATO A CENA E DOMENICA A PRANZO POSSIBILITÀ DI DEGUSTARE I CROUSET CON I SUGHI DELLA TRADIZIONE!  \n1 PIATTO DI CROUSET € 12 \nScopri QUI i ristoranti di Vinadio che aderiscono all’iniziativa. \n\nINFO: 0171 959151 – 0171 1670042 / info@fortedivinadio.com \n \n
URL:https://fondazioneartea.org/event/forte-in-fiore-v-edizione/
CATEGORIES:Artigianato,Ciclotour,Concerti,Conferenza,E-bike,food&beverage,Incontro,Kids&Family,Kids&Family Friendly,Laboratori,Letteratura,mercatino,mostra florovivaistica,Musica,Sostenibilità,Storia,Visite guidate
ATTACH;FMTTYPE=image/png:https://fondazioneartea.org/wp-content/uploads/2025/05/FIF_25_1200x630px.png
END:VEVENT
END:VCALENDAR