BEGIN:VCALENDAR
VERSION:2.0
PRODID:-//Fondazione Artea - ECPv4.6.7//NONSGML v1.0//EN
CALSCALE:GREGORIAN
METHOD:PUBLISH
X-WR-CALNAME:Fondazione Artea
X-ORIGINAL-URL:https://fondazioneartea.org
X-WR-CALDESC:Events for Fondazione Artea
BEGIN:VEVENT
DTSTART;VALUE=DATE:20181016
DTEND;VALUE=DATE:20181017
DTSTAMP:20260420T092718
CREATED:20180926T123356Z
LAST-MODIFIED:20181116T104244Z
UID:2057-1539648000-1539734399@fondazioneartea.org
SUMMARY:FEDERICO RAMPINI | Le Linee Rosse. Mappe per capire il mondo
DESCRIPTION:Secondo appuntamento della rassegna Spotlight. Luci che accecano\, realtà invisibili\, un ciclo di incontri che si terrà tra ottobre e novembre a Torino e a Cuneo e che anticipa i temi della sesta edizione di Biennale Democrazia dal titolo Visibile Invisibile\, in programma a Torino dal 27 al 31 marzo 2019. \nL’incontro cuneese avrà luogo al Teatro Toselli\, con la preziosa collaborazione della Città di Cuneo. Una conferenza – spettacolo del giornalista e scrittore Federico Rampini che ci aiuterà a capire meglio il mondo e la geopolitica\, attraverso un approfondimento sui territori e i popoli\, raccontando le trasformazioni dell’attualità mondiale\, seguendo il tracciato delle carte geografiche\, sovrapponendole e interpretando numeri e linee di confine. \n“Viaggiamo sempre di più. Capiamo sempre di meno. Mentre lo attraversiamo a gran velocità\, il mondo attorno a noi ci disorienta. Eppure\, tutto quello che il mondo vuole dirci è spiegato nei disegni. Il nostro destino è scritto nelle carte geografiche\, e nella loro storia. Se impariamo a decifrarle”. \n \nLa rassegna Spotlight è un progetto della Città di Torino\, realizzato dalla Fondazione per la Cultura Torino e dal Polo del ‘900\, in collaborazione con Fondazione Artea e CAMERA – Centro Italiano per la Fotografia. L’iniziativa è sostenuta dalla Compagnia di San Paolo\, nell’ambito del “Bando Polo del ‘900”\, destinato ad azioni che promuovono il dialogo tra ‘900 e contemporaneità usando la partecipazione culturale come leva di innovazione civica (#CSP_Innovazionecivica – visita il sito: cic.compagniadisanpaolo.it)\, e vede Intesa Sanpaolo come main partner. \nSpotlight non è solo un ciclo di incontri: il progetto prevede infatti anche il rafforzamento delle attività di formazione svolte da Biennale nelle scuole superiori di Torino e\, da quest’anno\, anche di Cuneo\, grazie alla collaborazione con il CeSPeC – Centro Studi sul Pensiero Contemporaneo. \n\nMartedì 16 ottobre\, ore 18.00\nCuneo – Teatro Toselli\, Via Teatro Toselli 9\nFederico Rampini \nLe linee rosse. Mappe per capire il mondo \nIngresso libero e gratuito\, fino ad esaurimento posti. \nInfo: www.biennaledemocrazia.it | www.fondazioneartea.org \n>> COMUNICATO STAMPA \n>> INVITO Federico Rampini\, LE LINEE ROSSE. MAPPE PER CAPIRE IL MONDO \n  \n
URL:https://fondazioneartea.org/event/federico-rampini-le-linee-rosse-mappe-per-capire-il-mondo/
CATEGORIES:Conferenza
ATTACH;FMTTYPE=image/jpeg:https://fondazioneartea.org/wp-content/uploads/2018/09/IMMAGINE_SITO_EVENTO.jpg
END:VEVENT
END:VCALENDAR