BEGIN:VCALENDAR
VERSION:2.0
PRODID:-//Fondazione Artea - ECPv4.6.7//NONSGML v1.0//EN
CALSCALE:GREGORIAN
METHOD:PUBLISH
X-WR-CALNAME:Fondazione Artea
X-ORIGINAL-URL:https://fondazioneartea.org
X-WR-CALDESC:Events for Fondazione Artea
BEGIN:VEVENT
DTSTART;VALUE=DATE:20220612
DTEND;VALUE=DATE:20220613
DTSTAMP:20260424T074810
CREATED:20220606T082811Z
LAST-MODIFIED:20220607T083242Z
UID:6495-1654992000-1655078399@fondazioneartea.org
SUMMARY:+FORTE KIDS ~ GOCCIA A GOCCIA
DESCRIPTION:Nell’ambito della rassegna +FORTE… \nFondazione Artea e Forte di Vinadio presentano il 2^ appuntamento +FORTE KIDS\, il calendario di laboratori ludico-didattici alla scoperta della sommità del fortino\, con narrazioni e interventi musicali nella polveriera e nella misteriosa “Caverna Comando”. \nAttività per famiglie con bambini 6-10 anni in collaborazione con La Fabbrica dei Suoni \nDomenica 12 giugno\, dalle 15.00 alle 17.00\nGOCCIA A GOCCIA\nSulle rive del lago del forte si è arenata una bottiglia con un messaggio: S.O.S. Acqua! È il grido di allarme del nostro pianeta che ci ricorda come l’acqua sia un bene prezioso che va protetto. Diamo voce all’acqua\, e sentiamo cos’ha da dire!\nSe vi va\, partecipate indossando abiti azzurri o verde-acqua \nBIGLIETTI FAMILY\n3 persone 20 €\n4 persone 24 €\n5 persone 28 € \nPRENOTAZIONE OBBLIGATORIA\nTEL. 328 203 2182 / 0171 959151 (biglietteria del Forte).\nOrari di giugno: sabato 14.30-19; domenica\, 10-19. \nSCOPRI IL PROGRAMMA COMPLETO +FORTE \n
URL:https://fondazioneartea.org/event/6495/
CATEGORIES:Incontro,Kids&Family,Laboratori,Musica,Storia,Visite guidate
ATTACH;FMTTYPE=image/jpeg:https://fondazioneartea.org/wp-content/uploads/2022/06/Forte_4433x2521_sitoArtea2.jpg
END:VEVENT
END:VCALENDAR