BEGIN:VCALENDAR
VERSION:2.0
PRODID:-//Fondazione Artea - ECPv4.6.7//NONSGML v1.0//EN
CALSCALE:GREGORIAN
METHOD:PUBLISH
X-WR-CALNAME:Fondazione Artea
X-ORIGINAL-URL:https://fondazioneartea.org
X-WR-CALDESC:Events for Fondazione Artea
BEGIN:VEVENT
DTSTART;VALUE=DATE:20200723
DTEND;VALUE=DATE:20200824
DTSTAMP:20260419T190158
CREATED:20200717T144210Z
LAST-MODIFIED:20210121T154925Z
UID:5423-1595462400-1598227199@fondazioneartea.org
SUMMARY:TEMPORARY SHOP 2020 - VIII edizione
DESCRIPTION:Forte di Vinadio\nda lunedì a sabato\, 14.30-19\ndomenica e festivi\, 10-19 \nAnche quest’anno il Forte di Vinadio ospita il Temporary Shop\, la bottega temporanea allestita tra le mura della fortezza dedicata all’artigianato artistico e ai prodotti tipici del territorio. \nIl Temporary Shop\, giunto alla sua ottava edizione\, è l’occasione per conoscere e acquistare i prodotti dell’agroalimentare locale e i manufatti ad “alto contenuto di creatività” realizzati da 19 artigiani della provincia di Cuneo. \nOrganizzato dalla Fondazione Artea in collaborazione con il Comune di Vinadio\, il negozio temporaneo rimarrà aperto fino a domenica 23 agosto dal lunedì al sabato dalle ore 14\,30 alle 19\, la domenica\, i festivi e la settimana di ferragosto dalle 10 alle 19. L’ingresso è libero e avviene dal ponte di Porta Francia. \nIl Temporary Shop è organizzato in due sezioni tematiche: artigianato artistico e prodotti tipici e di cosmesi. Il comune denominatore di tutto quanto viene esposto è la provenienza\, rigorosamente “made in Cuneo”\, per un’offerta che comprende oggettistica\, produzione ceramica\, accessori\, liquori\, miele\, marmellate\, oli essenziali\, prodotti essiccati\, erbe aromatiche\, zafferano\, aglio\, biscotti… e molto altro ancora! \nIn osservanza delle prescrizioni per prevenire il contagio di Covid-19\, è consentito l’accesso agli spazi fino ad un massimo di 10 persone contemporaneamente\, con l’obbligo di indossare la mascherina. All’ingresso\, inoltre\, sarà presente un dispenser di gel igienizzante per le mani. \nPer maggiori informazioni:\nT. 0171 959151 – 340 4962384 \nSCARICA L’ELENCO COMPLETO DEGLI ESPOSITORI \n\nPRODOTTI TIPICI\nA.G. DI BOE ANTONELLO E GIOVANNI S.n.c.\, Villanova Mondovì\nLiquori artigianali a base di erbe di montagna. \nAZ. AGRICOLA ARTEMISIA BIO DI BRUNETTI ISABELLA\, Beinette\nFrutta\, verdura\, fiori e erbe aromatiche disidratate\, risotti e minestre preparate\, macinati di frutta\, verdura ed erbe aromatiche\, brodo vegetale\, zenzero disidratato con succo di mela e spezie\, snack di frutta secca disidratata. \nAZ. AGRICOLA AUDISIO WALTER OSCAR\, Demonte\nZafferano in stimmi\, miele\, burro e riso con zafferano. \nAZ. AGRICOLA CASCINA LA TRINITÀ DI GARABELLO DAVIDE\, Cavallermaggiore\nNettare di mirtillo\, succo 100% mirtillo\, confettura extra mirtillo\, gelatine al mirtillo\, chutney mirtillo e zenzero. \nAZ. AGRICOLA FOSSATI ALBERTO\, Sambuco\nMiele\, polline di montagna\, propoli e caramelle. \nAZ. AGRICOLA LA FATTORIA DELL’AGLIO DI ARNEODO DANDRA E GARINO DEBORA\, Caraglio\nAglio di Caraglio e trasformati. Barbarià e trasformati. \nAZ. AGRICOLA MIEL-È DI DEGIOANNI GIOVANNI\, Vinadio\nMiele di varie qualità\, pasta di nocciole con miele di Acacia e prodotti dell’alveare. \nAZ. ARTIGIANA ERBE DI MONTAGNA DI BAGHINO SAMANTHA\, Pianfei\nErbe aromatiche e officinali\, spezie\, te\, tisane\, sali aromatizzati\, sughi disidratati e risotti. \nLA BUTEGO D’LA TOURTO FINO DI MARTINI FABIO & C.\, Vignolo\nTorta Fina di Vignolo\, paste nocciolate\, paste di meliga\, cuquare\, paste in forma. \nCOSMESI NATURALE \nMUSEO DELLA LAVANDA\, Casteldelfino\nOlio essenziale e sacchetti di lavanda. \nSAPONIFICIO ROSE & CAPRIOLI S.r.l.| Pietraporzio\nSaponi e creme 100% naturali\, arricchiti con estratti di piante di alta montagna. \nARTIGIANATO ARTISTICO \nASSOCIAZIONE ARTE DA PARTE | Peveragno \nLEGNO \nGianluca Fruttero\, Cuneo \nArtigianato fantasy in legno\, pietra e resina. \nSalvatore Dauria Design\, Paesana\nOggetti di design-artigianato artistico in legno. \nGIOIELLI E CERAMICA \nChiara Merenda\, Borgomale\nBijoux e accessori in fimo e feltro. \nMakramarì LAB – Con il cuore\, Cuneo \nBijoux ed oggettistica realizzati con tessuti e tecnica del macramè. \nSara Garofano\, Cervasca\nRiciclo creativo. Bijoux realizzati con le capsule del caffè\, stoffa e scampoli. \nASSOCIAZIONE GIOIE DI CRETA\, Cuneo\nCeramiche artistiche realizzate a mano e al tornio. \nCUCITO CREATIVO \nBargis Cristina\, Sampeyre\nLane naturali tinte con erbe\, fiori e radici. Manufatti in lana: maglioni\, giacche cappelli e coperte della tradizione alpina. \nMichela Martini\, Cuneo\nManufatti tessili: borse\, zaini e astucci. \n
URL:https://fondazioneartea.org/event/5423/
CATEGORIES:Artigianato,Laboratori,Mostre
ATTACH;FMTTYPE=image/jpeg:https://fondazioneartea.org/wp-content/uploads/2021/01/IMG_NEWS_SITO_ARTEA.jpg
END:VEVENT
END:VCALENDAR